BEGIN:VCALENDAR
VERSION:2.0
PRODID:-//Rensselaer County Legislature - ECPv6.15.17.1//NONSGML v1.0//EN
CALSCALE:GREGORIAN
METHOD:PUBLISH
X-ORIGINAL-URL:https://www.rensselaercounty.org
X-WR-CALDESC:Events for Rensselaer County Legislature
REFRESH-INTERVAL;VALUE=DURATION:PT1H
X-Robots-Tag:noindex
X-PUBLISHED-TTL:PT1H
BEGIN:VTIMEZONE
TZID:UTC
BEGIN:STANDARD
TZOFFSETFROM:+0000
TZOFFSETTO:+0000
TZNAME:UTC
DTSTART:20250101T000000
END:STANDARD
END:VTIMEZONE
BEGIN:VEVENT
DTSTART;VALUE=DATE:20261103
DTEND;VALUE=DATE:20261104
DTSTAMP:20260424T145401
CREATED:20251120T143328Z
LAST-MODIFIED:20251120T143328Z
UID:6914-1793664000-1793750399@www.rensselaercounty.org
SUMMARY:Election Day - Office Closed
DESCRIPTION:Office Closed
URL:https://www.rensselaercounty.org/event/election-day-office-closed-3/
END:VEVENT
BEGIN:VEVENT
DTSTART;TZID=UTC:20261109T083000
DTEND;TZID=UTC:20261109T090000
DTSTAMP:20260424T145401
CREATED:20251223T180337Z
LAST-MODIFIED:20251223T180357Z
UID:7093-1794213000-1794214800@www.rensselaercounty.org
SUMMARY:November 2026 Honor A Deceased Veteran
DESCRIPTION:  \n 
URL:https://www.rensselaercounty.org/event/october-2026-honor-a-deceased-veteran/
CATEGORIES:Honor a Veteran
END:VEVENT
BEGIN:VEVENT
DTSTART;TZID=UTC:20261110T180000
DTEND;TZID=UTC:20261110T200000
DTSTAMP:20260424T145401
CREATED:20251120T155415Z
LAST-MODIFIED:20251209T200959Z
UID:6950-1794333600-1794340800@www.rensselaercounty.org
SUMMARY:Regular Meeting November 2026
DESCRIPTION:  \nLegislative Meeting will be held in the Legislative Chambers located at 99 Troy Road\, East Greenbush\, NY 12061 . \nFor more information on the meeting\, please contact the office at 518-270-2880. \n  \n  \n  \n  \n  \n 
URL:https://www.rensselaercounty.org/event/regular-meeting-november-2026/
END:VEVENT
BEGIN:VEVENT
DTSTART;VALUE=DATE:20261111
DTEND;VALUE=DATE:20261112
DTSTAMP:20260424T145401
CREATED:20251120T150306Z
LAST-MODIFIED:20251120T150306Z
UID:6924-1794355200-1794441599@www.rensselaercounty.org
SUMMARY:Veterans Day - Office Closed
DESCRIPTION:Office Closed
URL:https://www.rensselaercounty.org/event/veterans-day-office-closed-4/
END:VEVENT
BEGIN:VEVENT
DTSTART;VALUE=DATE:20261126
DTEND;VALUE=DATE:20261128
DTSTAMP:20260424T145401
CREATED:20251120T150410Z
LAST-MODIFIED:20251120T150410Z
UID:6926-1795651200-1795823999@www.rensselaercounty.org
SUMMARY:Thanksgiving - Office Closed
DESCRIPTION:Office Closed
URL:https://www.rensselaercounty.org/event/thanksgiving-office-closed-4/
END:VEVENT
END:VCALENDAR