BEGIN:VCALENDAR
VERSION:2.0
PRODID:-//Rensselaer County Legislature - ECPv6.15.17.1//NONSGML v1.0//EN
CALSCALE:GREGORIAN
METHOD:PUBLISH
X-WR-CALNAME:Rensselaer County Legislature
X-ORIGINAL-URL:https://www.rensselaercounty.org
X-WR-CALDESC:Events for Rensselaer County Legislature
REFRESH-INTERVAL;VALUE=DURATION:PT1H
X-Robots-Tag:noindex
X-PUBLISHED-TTL:PT1H
BEGIN:VTIMEZONE
TZID:UTC
BEGIN:STANDARD
TZOFFSETFROM:+0000
TZOFFSETTO:+0000
TZNAME:UTC
DTSTART:20250101T000000
END:STANDARD
END:VTIMEZONE
BEGIN:VEVENT
DTSTART;VALUE=DATE:20260907
DTEND;VALUE=DATE:20260908
DTSTAMP:20260424T112237
CREATED:20251120T150017Z
LAST-MODIFIED:20251120T150017Z
UID:6900-1788739200-1788825599@www.rensselaercounty.org
SUMMARY:Labor Day - Office Closed
DESCRIPTION:Office Closed
URL:https://www.rensselaercounty.org/event/labor-day-office-closed-3/
END:VEVENT
BEGIN:VEVENT
DTSTART;TZID=UTC:20260908T180000
DTEND;TZID=UTC:20260908T200000
DTSTAMP:20260424T112237
CREATED:20251120T155131Z
LAST-MODIFIED:20251120T155131Z
UID:6946-1788890400-1788897600@www.rensselaercounty.org
SUMMARY:Regular Meeting September 2026
DESCRIPTION:  \nLegislative Meeting will be held in the Legislative Chambers located at 99 Troy Road\, East Greenbush\, NY 12061 . \nFor more information on the meeting\, please contact the office at 518-270-2880. \n  \n  \n  \n  \n  \n 
URL:https://www.rensselaercounty.org/event/regular-meeting-september-2026/
END:VEVENT
BEGIN:VEVENT
DTSTART;TZID=UTC:20260914T083000
DTEND;TZID=UTC:20260914T090000
DTSTAMP:20260424T112237
CREATED:20251223T180246Z
LAST-MODIFIED:20251223T180246Z
UID:7096-1789374600-1789376400@www.rensselaercounty.org
SUMMARY:September 2026 Honor A Deceased Veteran
DESCRIPTION:  \n 
URL:https://www.rensselaercounty.org/event/september-2026-honor-a-deceased-veteran/
CATEGORIES:Honor a Veteran
END:VEVENT
END:VCALENDAR