BEGIN:VCALENDAR
VERSION:2.0
PRODID:-//Rensselaer County Legislature - ECPv6.15.17.1//NONSGML v1.0//EN
CALSCALE:GREGORIAN
METHOD:PUBLISH
X-WR-CALNAME:Rensselaer County Legislature
X-ORIGINAL-URL:https://www.rensselaercounty.org
X-WR-CALDESC:Events for Rensselaer County Legislature
REFRESH-INTERVAL;VALUE=DURATION:PT1H
X-Robots-Tag:noindex
X-PUBLISHED-TTL:PT1H
BEGIN:VTIMEZONE
TZID:UTC
BEGIN:STANDARD
TZOFFSETFROM:+0000
TZOFFSETTO:+0000
TZNAME:UTC
DTSTART:20240101T000000
END:STANDARD
END:VTIMEZONE
BEGIN:VEVENT
DTSTART;TZID=UTC:20250609T083000
DTEND;TZID=UTC:20250609T090000
DTSTAMP:20260422T001030
CREATED:20250211T183426Z
LAST-MODIFIED:20250610T201723Z
UID:6117-1749457800-1749459600@www.rensselaercounty.org
SUMMARY:June 2025 Honor A Deceased Veteran - William (Bill) Robert McDonough
DESCRIPTION:William (Bill) Robert McDonough\n1932-2024 \n \nFAMILY HISTORY:\nWilliam (Bill) Robert McDonough was born on March 15\, 1932 in Troy\, New York. He was the son of the late John and Helen (Ryan) McDonough\, and brother to Jack McDonough. \nEDUCATION:\nBill grew up in Troy\, New York and received his education through St. Augustine’s School\, graduating from Catholic Central High School\, and went on to finish his education at Siena College. Later residing in Lansingburgh\, New York. \nHISTORY:\nIn 1952\, Bill enlisted with the United States Army\, where he was assigned to the rank of Staff Sergeant and Medic while stationed in Korea\, 65th Infantry Regiment\, 3rd Division.  During his time in the Korean War he was awarded the Purple Heart (wounded twice)\, and the Bronze Star with Valor. \nPERSONAL:\nBill married his wife\, Maureen (Link) McDonough on July 2\, 1960 at the St. Frances deSales Catholic Church\, Troy\, New York. Together they had five children: Tim\, Kathy\, Kevin\, Sandy\, and Mark; and ten grandchildren; Mindy\, Amanda\, Molly\, Connor\, Jake\, Emily\, Tyler\, Patrick\, Molly\, and SioBhan. \nWORK EXPERIENCE:\nAfter his Honorable Discharge from the United States Army on July 1\, 1960 returning from Korea\, Bill went to work for the Record Newspaper and enjoyed 45 years of employment\, retiring as the National Advertising manager.  He was active in the community by way of coaching Little League\, Independent Baseball. \nCOMMUNITY ACTIVITIES/ORGANIZATIONS:\nBill was a lifelong Communicant of St. Augustine’s Church\, member of the Troy Kiwanis\, Friendly Sons of St. Patrick\, Veterans of Lansingburgh\, founding member of the Friends of 112th Street where he was elected into the Athletic Hall of Fame\, named Veteran of the Year in 2014\, and a die-hard San Francisco Giants fan. \nSadly\, on February 8\, 2024\, Bill passed away and was laid to rest at the Saratoga National Cemetery. \n 
URL:https://www.rensselaercounty.org/event/june-2025-honor-a-deceased-veteran/
CATEGORIES:Honor a Veteran
END:VEVENT
BEGIN:VEVENT
DTSTART;TZID=UTC:20250610T180000
DTEND;TZID=UTC:20250610T200000
DTSTAMP:20260422T001030
CREATED:20250106T185240Z
LAST-MODIFIED:20250702T155747Z
UID:5982-1749578400-1749585600@www.rensselaercounty.org
SUMMARY:Regular Meeting June 2025
DESCRIPTION:Meeting Packet 6-10-25\nSpecial Rules Packet \nLegislative Meeting will be held in the Legislative Chambers located at 99 Troy Road\, East Greenbush\, NY 12061 . \nFor more information on the meeting\, please contact the office at 518-270-2880. \n  \n  \n  \n  \n  \n 
URL:https://www.rensselaercounty.org/event/regular-meeting-june-2025/
END:VEVENT
BEGIN:VEVENT
DTSTART;VALUE=DATE:20250619
DTEND;VALUE=DATE:20250620
DTSTAMP:20260422T001030
CREATED:20250106T190602Z
LAST-MODIFIED:20250106T190602Z
UID:6002-1750291200-1750377599@www.rensselaercounty.org
SUMMARY:Juneteenth - Office Closed
DESCRIPTION:Office Closed
URL:https://www.rensselaercounty.org/event/juneteenth-office-closed-2/
END:VEVENT
END:VCALENDAR