BEGIN:VCALENDAR
VERSION:2.0
PRODID:-//Rensselaer County Legislature - ECPv6.15.17.1//NONSGML v1.0//EN
CALSCALE:GREGORIAN
METHOD:PUBLISH
X-WR-CALNAME:Rensselaer County Legislature
X-ORIGINAL-URL:https://www.rensselaercounty.org
X-WR-CALDESC:Events for Rensselaer County Legislature
REFRESH-INTERVAL;VALUE=DURATION:PT1H
X-Robots-Tag:noindex
X-PUBLISHED-TTL:PT1H
BEGIN:VTIMEZONE
TZID:UTC
BEGIN:STANDARD
TZOFFSETFROM:+0000
TZOFFSETTO:+0000
TZNAME:UTC
DTSTART:20240101T000000
END:STANDARD
END:VTIMEZONE
BEGIN:VEVENT
DTSTART;TZID=UTC:20250512T083000
DTEND;TZID=UTC:20250512T090000
DTSTAMP:20260421T223913
CREATED:20250211T183247Z
LAST-MODIFIED:20250507T190222Z
UID:6115-1747038600-1747040400@www.rensselaercounty.org
SUMMARY:May 2025 Honor A Deceased Veteran - Thomas M. Walsh\, Sr.
DESCRIPTION:  \nThomas M. Walsh\, Sr.\n1935-2024 \nFAMILY HISTORY:\nThomas M. Walsh\, Sr. was born on November 6\, 1935 in Troy\, New York. He was the son of the late Myles Walsh and Irene (King) Hegarty\, and brother to Arlene\, and the late Annina. \nEDUCATION:\nTom grew up in Troy\, New York and received his education through Troy High School\, and went on to continue his education with the Command and General Staff College\, and Industrial College of the Armed Forces.  Tom later resided in Wynantskill and Brunswick\, New York. \nHISTORY:\nIn 1953\, Tom enlisted with the United States Army National Guard\, where he was assigned to the 105th Medical Command\, 27th Infantry Division. Tom earned numerous commendations including the New York State Long and Faithful Service Award\, NYS Recruiting Medal\, NYS Military Commendation Medal\, NYS Aid to Civil Authority Medal\, NYS Humane Service Medal\, Army Commendation Medal\, and two Meritorious Service Medals\, prestigiously retiring with distinction as a Lieutenant Colonel. \nPERSONAL:\nTom married his beloved wife\, Diane E. (Gailey) Walsh on September 8\, 1957. Together they had five children: Kathleen\, Thomas\, Michael\, Jennifer\, and Mary; and ten grandchildren; Jenét\, Tiana\, Mathew\, Patrick\, Shannon\, Melissa\, Skyler\, Ethan\, Hunter\, and Austin; and many great grandchildren\, nieces and nephews. \nWORK EXPERIENCE:\nAfter his Honorable Discharge from the United States Army National Guard on March 11\, 1981\, Tom was employed by Watervliet Arsenal and retired as Chief of Manufacturing where he oversaw 1300 employees and was the National Vice President of the Federal Managers Association\, Wells Communications\, and Rensselaer County Jail in the Maintenance Department.  Tom served as the Brunswick Town Supervisor before being elected to the Rensselaer County Legislature\, where he served his constituents in Legislative District No. 3 (Towns of Brunswick\, Schaghticoke and Pittstown)\, with pride for 5 terms. \nCOMMUNITY ACTIVITIES/ORGANIZATIONS:\nTom was instrumental in the Medal of Honor Memorial called the “Hall of Heroes”.  He was also a member of the Knight of Columbus\, Council 10990\, Elks Club\, VFW\, and loved going to Bolton Landing in the Summer and Florida in the winter. \nSadly\, on December 25\, 2024\, Tom passed away and was laid to rest at Eagle Mills Cemetery with Military Honors.
URL:https://www.rensselaercounty.org/event/may-2025-honor-a-deceased-veteran/
CATEGORIES:Honor a Veteran
END:VEVENT
BEGIN:VEVENT
DTSTART;TZID=UTC:20250513T180000
DTEND;TZID=UTC:20250513T200000
DTSTAMP:20260421T223913
CREATED:20250106T184930Z
LAST-MODIFIED:20250604T170300Z
UID:5980-1747159200-1747166400@www.rensselaercounty.org
SUMMARY:Regular Meeting May 2025
DESCRIPTION:Certified Packet 5-13-25 \nSpecial Rules Packet 5-13-25 \nMeeting Packet 5-13-25 \nLegislative Meeting will be held in the Legislative Chambers located at 99 Troy Road\, East Greenbush\, NY 12061 . \nFor more information on the meeting\, please contact the office at 518-270-2880. \n  \n  \n  \n  \n  \n 
URL:https://www.rensselaercounty.org/event/regular-meeting-may-2025/
END:VEVENT
BEGIN:VEVENT
DTSTART;VALUE=DATE:20250526
DTEND;VALUE=DATE:20250527
DTSTAMP:20260421T223913
CREATED:20250106T190507Z
LAST-MODIFIED:20250106T190507Z
UID:6000-1748217600-1748303999@www.rensselaercounty.org
SUMMARY:Memorial Day Office Closed
DESCRIPTION:Office Closed
URL:https://www.rensselaercounty.org/event/memorial-day-office-closed/
END:VEVENT
END:VCALENDAR