BEGIN:VCALENDAR
VERSION:2.0
PRODID:-//Rensselaer County Legislature - ECPv6.15.17.1//NONSGML v1.0//EN
CALSCALE:GREGORIAN
METHOD:PUBLISH
X-WR-CALNAME:Rensselaer County Legislature
X-ORIGINAL-URL:https://www.rensselaercounty.org
X-WR-CALDESC:Events for Rensselaer County Legislature
REFRESH-INTERVAL;VALUE=DURATION:PT1H
X-Robots-Tag:noindex
X-PUBLISHED-TTL:PT1H
BEGIN:VTIMEZONE
TZID:UTC
BEGIN:STANDARD
TZOFFSETFROM:+0000
TZOFFSETTO:+0000
TZNAME:UTC
DTSTART:20240101T000000
END:STANDARD
END:VTIMEZONE
BEGIN:VEVENT
DTSTART;TZID=UTC:20250304T100000
DTEND;TZID=UTC:20250304T110000
DTSTAMP:20260421T193300
CREATED:20250218T153701Z
LAST-MODIFIED:20250410T193509Z
UID:6178-1741082400-1741086000@www.rensselaercounty.org
SUMMARY:NOTICE OF A MEETING OF THE RENSSELAER COUNTY BOARD OF ELECTIONS
DESCRIPTION:NOTICE OF A MEETING OF THE RENSSELAER COUNTY BOARD OF ELECTIONS \nDATE AND TIME OF MEETING:  MARCH 4\, 2025\, AT 10:00 A.M. \nPLACE OF MEETING:  OFFICES OF THE BOARD OF ELECTIONS\, 1600 7TH AVE\, TROY\, NY. \nTHE PURPOSE OF THE MEETING IS TO DETERMINE: \nTHE REQUIRED REDISTRICTING OF ELECTION DISTRICTS IN THE TOWN OF BRUNSWICK\, FOLLOWING THE 2024 CONGRESSIONAL REDISTRICTING WHICH RESULTED THE CREATION OF TWO CONGRESSIOINAL DISTRICTS IN THE TOWN OF BRUNSWICK\, AND SPECIFICALLY THE CREATION OF ELECTION DISTRICTS 11\, 12\, 13\, 14\, 15 & 16. \nFOLLOWING THE 2024 GENERAL ELECTION\, THE BOARD OF ELECTIONS IS REQUIRED TO REDISTRICT AND RESTORE THE NUMBER OF ELECTION DISTRICTS IN THE TOWN OF BRUNSWICK TO THE PREVIOUS TEN ELECTION DISTRICTS. \nTHE REQUIRED REDISTRICTING WILL NOT CHANGE A VOTER’S CONGRESSIONAL DISTRICT. \nTHE BOARD OF ELECTIONS WILL PROVIDE NOTICE TO VOTERS OF ANY CHANGE IN ELECTION DISTRICT/CHANGE OF POLLING LOCATION PRIOR TO THE JUNE 2025 PRIMARY ELECTION. \nThe proposed redistricting is as follows: \nED           CD          Voters                  Disposition/Revision \n1              19           1316                       no change \n2              19           889                         no change \n3              19           743                         Move ED 11 voters (345 voters) to ED 3 \nED 3 totals 1088 voters\, all in CD 19 \n4              19           1362                       no change \n5              20           1093                       no change \n6              20           536                         no change \n7              20           253                         Change\, as follows: \nMove current ED 7 voters (253) to ED 10 (all in CD 20) \nSet up new ED 7 in CD 19 \nMove current ED 12 voters (319) to new ED 7 \nNew ED 7 voters total 319\, all in CD 19 \n8              19           1095                       Move current ED 13 voters (41) to ED 8 \nED 8 totals 1136\, all in CD 19 \n9              19           1325                       no change \n10           20           789                         Move current ED 15 voters (20) to ED 10 \nMove current ED 14 voters (4) to ED 10 \nMove current ED 7 voters (253) to ED 10 \nED 10 totals 1076\, all in CD 20 \n11           19           345                         ABOLISH ED 11; Move all current voters to ED 3 \n12           19           319                         ABOLISH ED 12; Move all current voters to new ED 7 \n13           19          41                           ABOLISH ED 13; Move all current voters to ED 8 \n14           20           4                              ABOLISH ED 14; Move all current voters to ED 10 \n15           20           20                           ABOLISH ED 15; Move all current voters to ED 10 \n16           20           -0-                          ABOLISH ED 16\, move (0 voters) to ED 5. \n  \n  \n  \n  \n  \n  \n  \n  \n  \n 
URL:https://www.rensselaercounty.org/event/notice-of-a-meeting-of-the-rensselaer-county-board-of-elections/
END:VEVENT
BEGIN:VEVENT
DTSTART;TZID=UTC:20250310T083000
DTEND;TZID=UTC:20250310T090000
DTSTAMP:20260421T193300
CREATED:20250211T183026Z
LAST-MODIFIED:20250211T183026Z
UID:6111-1741595400-1741597200@www.rensselaercounty.org
SUMMARY:March 2025 Honor A Deceased Veteran -
DESCRIPTION:
URL:https://www.rensselaercounty.org/event/march-2025-honor-a-deceased-veteran/
CATEGORIES:Honor a Veteran
END:VEVENT
BEGIN:VEVENT
DTSTART;TZID=UTC:20250311T173000
DTEND;TZID=UTC:20250311T183000
DTSTAMP:20260421T193300
CREATED:20250106T184809Z
LAST-MODIFIED:20250106T184809Z
UID:5969-1741714200-1741717800@www.rensselaercounty.org
SUMMARY:State of the County 2025
DESCRIPTION:State of the County 2025 will be held in the Legislative Chambers located at 99 Troy Road\, East Greenbush\, NY 12061 . \nFor more information on the meeting\, please contact the office at 518-270-2880. \n  \n  \n  \n  \n  \n 
URL:https://www.rensselaercounty.org/event/state-of-the-county-2025/
END:VEVENT
BEGIN:VEVENT
DTSTART;TZID=UTC:20250311T180000
DTEND;TZID=UTC:20250311T200000
DTSTAMP:20260421T193300
CREATED:20250106T184616Z
LAST-MODIFIED:20250327T185543Z
UID:5975-1741716000-1741723200@www.rensselaercounty.org
SUMMARY:Regular Meeting March 2025
DESCRIPTION:  \n \n  \nCertified Packet 3-11-25  \nMeeting Packet 3-11-25\nSpecial Rules Packet with BU \nLegislative Meeting will be held in the Legislative Chambers located at 99 Troy Road\, East Greenbush\, NY 12061 . \nFor more information on the meeting\, please contact the office at 518-270-2880. \n  \n  \n  \n  \n  \n 
URL:https://www.rensselaercounty.org/event/regular-meeting-march-2025/
END:VEVENT
END:VCALENDAR