BEGIN:VCALENDAR
VERSION:2.0
PRODID:-//Rensselaer County Legislature - ECPv6.15.17.1//NONSGML v1.0//EN
CALSCALE:GREGORIAN
METHOD:PUBLISH
X-ORIGINAL-URL:https://www.rensselaercounty.org
X-WR-CALDESC:Events for Rensselaer County Legislature
REFRESH-INTERVAL;VALUE=DURATION:PT1H
X-Robots-Tag:noindex
X-PUBLISHED-TTL:PT1H
BEGIN:VTIMEZONE
TZID:UTC
BEGIN:STANDARD
TZOFFSETFROM:+0000
TZOFFSETTO:+0000
TZNAME:UTC
DTSTART:20240101T000000
END:STANDARD
END:VTIMEZONE
BEGIN:VEVENT
DTSTART;TZID=UTC:20250113T083000
DTEND;TZID=UTC:20250113T090000
DTSTAMP:20260421T155859
CREATED:20250211T185503Z
LAST-MODIFIED:20250211T185503Z
UID:6134-1736757000-1736758800@www.rensselaercounty.org
SUMMARY:January 2025 Honor A Deceased Veteran - No Veteran for January
DESCRIPTION:
URL:https://www.rensselaercounty.org/event/january-2025-honor-a-deceased-veteran-no-veteran-for-january/
CATEGORIES:Honor a Veteran
END:VEVENT
BEGIN:VEVENT
DTSTART;TZID=UTC:20250114T180000
DTEND;TZID=UTC:20250114T200000
DTSTAMP:20260421T155859
CREATED:20250106T183300Z
LAST-MODIFIED:20250117T133221Z
UID:5970-1736877600-1736884800@www.rensselaercounty.org
SUMMARY:Regular Meeting January 2025
DESCRIPTION:  \n \nMeeting Packet 1-14-25 \nCertified Packet 1-14-25 \nLegislative Meeting will be held in the Legislative Chambers located at 99 Troy Road\, East Greenbush\, NY 12061 . \nFor more information on the meeting\, please contact the office at 518-270-2880. \n  \n  \n  \n  \n  \n 
URL:https://www.rensselaercounty.org/event/regular-meeting-january-2025/
END:VEVENT
BEGIN:VEVENT
DTSTART;VALUE=DATE:20250120
DTEND;VALUE=DATE:20250121
DTSTAMP:20260421T155859
CREATED:20250106T190220Z
LAST-MODIFIED:20250106T190220Z
UID:5996-1737331200-1737417599@www.rensselaercounty.org
SUMMARY:Martin Luther King Jr. Day - Office Closed
DESCRIPTION:Office Closed
URL:https://www.rensselaercounty.org/event/martin-luther-king-jr-day-office-closed/
END:VEVENT
END:VCALENDAR