BEGIN:VCALENDAR
VERSION:2.0
PRODID:-//Rensselaer County Legislature - ECPv6.15.17.1//NONSGML v1.0//EN
CALSCALE:GREGORIAN
METHOD:PUBLISH
X-WR-CALNAME:Rensselaer County Legislature
X-ORIGINAL-URL:https://www.rensselaercounty.org
X-WR-CALDESC:Events for Rensselaer County Legislature
REFRESH-INTERVAL;VALUE=DURATION:PT1H
X-Robots-Tag:noindex
X-PUBLISHED-TTL:PT1H
BEGIN:VTIMEZONE
TZID:UTC
BEGIN:STANDARD
TZOFFSETFROM:+0000
TZOFFSETTO:+0000
TZNAME:UTC
DTSTART:20230101T000000
END:STANDARD
END:VTIMEZONE
BEGIN:VEVENT
DTSTART;VALUE=DATE:20241105
DTEND;VALUE=DATE:20241106
DTSTAMP:20260421T125747
CREATED:20241009T143159Z
LAST-MODIFIED:20241009T143159Z
UID:5634-1730764800-1730851199@www.rensselaercounty.org
SUMMARY:Election Day - Office closed
DESCRIPTION:Office Closed
URL:https://www.rensselaercounty.org/event/election-day-office-closed-2/
END:VEVENT
BEGIN:VEVENT
DTSTART;TZID=UTC:20241106T100000
DTEND;TZID=UTC:20241106T104500
DTSTAMP:20260421T125747
CREATED:20241031T171029Z
LAST-MODIFIED:20241031T171046Z
UID:5718-1730887200-1730889900@www.rensselaercounty.org
SUMMARY:Ag and Farmland Protection Board Meeting- Inclusion Request- Agricultural District 6 East Greenbush\, Nassau\, Sand Lake\, Schodack and North Greenbush
DESCRIPTION:Agriculture and Farmland Protection Board Meeting to review and consider the following requests for inclusion that was received during the month of September 2024: \nAgricultural District 6 East Greenbush\, Nassau\, Sand Lake\, Schodack and North Greenbush: \n  \n\n\n\nTax Map No.\nProperty Owner\nAcres\n\n\n178.-4-55.1\nMorgan-Lipton\n27.25 +/-\n\n\n\n  \nThe Agriculture and Farmland Protection Board meeting will he held in the Legislative Conference Room\, located at 99 Troy Road\, East Greenbush NY 12061. \n  \n 
URL:https://www.rensselaercounty.org/event/ag-and-farmland-protection-board-meeting-inclusion-request-agricultural-district-6-east-greenbush-nassau-sand-lake-schodack-and-north-greenbush/
END:VEVENT
BEGIN:VEVENT
DTSTART;VALUE=DATE:20241111
DTEND;VALUE=DATE:20241112
DTSTAMP:20260421T125747
CREATED:20241009T143353Z
LAST-MODIFIED:20241009T143353Z
UID:5633-1731283200-1731369599@www.rensselaercounty.org
SUMMARY:Veterans Day - Office closed
DESCRIPTION:Office Closed
URL:https://www.rensselaercounty.org/event/veterans-day-office-closed-2/
END:VEVENT
BEGIN:VEVENT
DTSTART;TZID=UTC:20241112T083000
DTEND;TZID=UTC:20241112T090000
DTSTAMP:20260421T125747
CREATED:20241009T143050Z
LAST-MODIFIED:20241115T200500Z
UID:5631-1731400200-1731402000@www.rensselaercounty.org
SUMMARY:November 2024 Honor A Deceased Veteran - Kenneth M. Wilson
DESCRIPTION:November 2024\nKenneth M. Wilson\n1921-1995 \nFAMILY HISTORY:\nKenneth M. Wilson was born on October 8\, 1921 in Dobbs Ferry\, New York. He was the son of the late Harold and Frances (Eschbach)Wilson\, and the brother of Miriam\, Dorothy\, Gertrude\, Harriet\, Harold\, and Peggy. \nKenneth grew up in Hudson\, New York and later moved to the city of Rensselaer and attended the Van Rensselaer High School from 1938 to 1941.  Kenneth then settled down in East Greenbush\, New York. \nHISTORY:\nIn 1942\, Kenneth enlisted in the United States Army and proudly served his country for three years achieving the rank of Corporal as a Heavy Machine Gunner\, during which time he was stationed in Naples-Foggia\, Rome-Arno\, Southern France.  Kenneth throughout his time of service had earned the European-African-Middle Eastern Service Medal\, Good Conduct Medal\, Purple Heart with Oak Leaf Cluster. \nPERSONAL:\nKenneth married his wife\, Mary (Cornell) on October 8\, 1949 in Rensselaer\, New York. Together they had three children: Karen\, Keith\, Diane; four grandchildren: Gregory\, Laura\, Zachary\, Alexandra. \nWORK EXPERIENCE:\nAfter his Honorable Discharge from the Army\, Kenneth was employed by the United States Postal Service. \nCOMMUNITY ACTIVITIES/ORGANIZATIONS:\nIn his spare time\, Kenneth enjoyed camping\, gardening and reading.  Kenneth also took time to coach baseball and softball for East Greenbush Little League\, East Greenbush Girls Softball League\, and East Greenbush Babe Ruth. \nSadly\, on November 30\, 1995\, Kenneth passed away and was laid to rest at New Rural Cemetery in East Greenbush\, New York.
URL:https://www.rensselaercounty.org/event/november-2024-honor-a-deceased-veteran/
CATEGORIES:Honor a Veteran
END:VEVENT
BEGIN:VEVENT
DTSTART;TZID=UTC:20241112T180000
DTEND;TZID=UTC:20241112T200000
DTSTAMP:20260421T125747
CREATED:20231206T180355Z
LAST-MODIFIED:20241115T195448Z
UID:4710-1731434400-1731441600@www.rensselaercounty.org
SUMMARY:Regular Meeting November 2024
DESCRIPTION:Meeting Packet 11-12-24 \nLegislative Meeting will be held in the Legislative Chambers located at 99 Troy Road\, East Greenbush\, NY 12061 . \nFor more information on the meeting\, please contact the office at 518-270-2880. \n  \n  \n  \n  \n  \n 
URL:https://www.rensselaercounty.org/event/regular-meeting-november-2024/
END:VEVENT
BEGIN:VEVENT
DTSTART;TZID=UTC:20241114T160000
DTEND;TZID=UTC:20241114T170000
DTSTAMP:20260421T125747
CREATED:20241031T171653Z
LAST-MODIFIED:20241031T171653Z
UID:5720-1731600000-1731603600@www.rensselaercounty.org
SUMMARY:Committee on Open Government Meeting
DESCRIPTION:Section 2.12 of the County Charter- Committee on Open Government. The Legislature shall establish a Committee on Open Government\, with the committee responsible for periodic review of public access to legislative operations\, maintenance of public records of the Rensselaer County Legislature\, public outreach efforts of the County Legislature and upgrades in technology and communications equipment that are beneficial to the people of Rensselaer County. The committee shall include three members appointed by the Chairman of the Legislature and two members appointed by the Minority Leader. The committee shall be a standing committee required to meet to review any proposed legislation regarding public access to the operations of the Legislature\, and meet at least once annually to review public access to the Legislature.\nMajority Members:\nTom Grant\nBruce Patire\nJeff Wysocki\nMinority Members:\nNina Nichols\nKen Zalewski\nMeeting: Thursday\, November 14\, 2024 at 4 p.m.\, in the East Greenbush Office.\n  \n  \n 
URL:https://www.rensselaercounty.org/event/committee-on-open-government-meeting/
END:VEVENT
BEGIN:VEVENT
DTSTART;TZID=UTC:20241114T173000
DTEND;TZID=UTC:20241114T180000
DTSTAMP:20260421T125747
CREATED:20241107T145848Z
LAST-MODIFIED:20241115T195536Z
UID:4716-1731605400-1731607200@www.rensselaercounty.org
SUMMARY:Public Hearing
DESCRIPTION:NOTICE OF PUBLIC HEARING \n PLEASE TAKE NOTICE\, That pursuant to Section 5.03 B (3) of the Rensselaer County Charter\, a Public Hearing will be held in the Chambers of the Rensselaer County Legislature at the County Office Building\, 99 Troy Road\, East Greenbush\, New York on Thursday\, November 14\, 2024\, at 5:30 p.m. regarding the 2025 Rensselaer County Tentative Budget. \n ______________________________ \nJessica L. Charette\, Clerk\nRensselaer County Legislature \n  \nDated: November 7\, 2024  \nState of New York   )\nCounty of Rensselaer)    SS: \n I\, Jessica L. Charette\, being duly sworn\, depose and say that the aforesaid Notice of Public Hearing is a true and accurate summary of the proceedings before the Rensselaer County Legislature in connection with the matter contained therein. \n IN WITNESS WHEREOF\, I have hereunto set my hand and affixed the seal of the County Legislature of the County of Rensselaer\, this 7th November\, 2024. \n  \n _____________________ \nJessica L. Charette\, Clerk\nRensselaer County Legislature\nCounty of Rensselaer\nState of New York \n  \nPublic Hearing will be held in the Legislative Chambers located at 99 Troy Road\, East Greenbush\, NY 12061 . \nFor more information on the meeting\, please contact the office at 518-270-2880. \n  \n  \n  \n  \n  \n 
URL:https://www.rensselaercounty.org/event/public-hearing-6/
END:VEVENT
BEGIN:VEVENT
DTSTART;TZID=UTC:20241120T173000
DTEND;TZID=UTC:20241120T180000
DTSTAMP:20260421T125747
CREATED:20241107T152623Z
LAST-MODIFIED:20241107T152656Z
UID:4715-1732123800-1732125600@www.rensselaercounty.org
SUMMARY:Public Hearing
DESCRIPTION:NOTICE OF PUBLIC HEARING \n PLEASE TAKE NOTICE\, That pursuant to Section 5.03 B (3) of the Rensselaer County Charter\, a Public Hearing will be held in the Chambers of the Rensselaer County Legislature at the County Office Building\, 99 Troy Road\, East Greenbush\, New York on Wednesday\, November 20\, 2024\, at 5:30 p.m. regarding the changes proposed by the Finance Committee of the Rensselaer County Legislature to the 2025 Rensselaer County Tentative Budget. \n ____________________________ \nJessica L. Charette\, Clerk\nRensselaer County Legislature \n  \n Dated: November 7\, 2024\nState of New York   )\nCounty of Rensselaer)    SS:\n  \nI\, Jessica L. Charette\, being duly sworn\, depose and say that the aforesaid Notice of Public Hearing is a true and accurate summary of the proceedings before the Rensselaer County Legislature in connection with the matter contained therein. \nIN WITNESS WHEREOF\, I have hereunto set my hand and affixed the seal of the County Legislature of the County of Rensselaer\, this 7th day of November\, 2024. \n  \n ____________________________ \nJessica L. Charette\, Clerk\nRensselaer County Legislature\nCounty of Rensselaer\nState of New York \nPublic Hearing will be held in the Legislative Chambers located at 99 Troy Road\, East Greenbush\, NY 12061 .\nFor more information on the meeting\, please contact the office at 518-270-2880. \n  \n  \n  \n  \n  \n 
URL:https://www.rensselaercounty.org/event/public-hearing-tentative/
END:VEVENT
BEGIN:VEVENT
DTSTART;VALUE=DATE:20241128
DTEND;VALUE=DATE:20241130
DTSTAMP:20260421T125747
CREATED:20241009T143255Z
LAST-MODIFIED:20241009T143255Z
UID:5636-1732752000-1732924799@www.rensselaercounty.org
SUMMARY:Thanksgiving - Office closed
DESCRIPTION:Office Closed
URL:https://www.rensselaercounty.org/event/thanksgiving-office-closed-2/
END:VEVENT
END:VCALENDAR