BEGIN:VCALENDAR
VERSION:2.0
PRODID:-//Rensselaer County Legislature - ECPv6.15.17.1//NONSGML v1.0//EN
CALSCALE:GREGORIAN
METHOD:PUBLISH
X-ORIGINAL-URL:https://www.rensselaercounty.org
X-WR-CALDESC:Events for Rensselaer County Legislature
REFRESH-INTERVAL;VALUE=DURATION:PT1H
X-Robots-Tag:noindex
X-PUBLISHED-TTL:PT1H
BEGIN:VTIMEZONE
TZID:UTC
BEGIN:STANDARD
TZOFFSETFROM:+0000
TZOFFSETTO:+0000
TZNAME:UTC
DTSTART:20230101T000000
END:STANDARD
END:VTIMEZONE
BEGIN:VEVENT
DTSTART;TZID=UTC:20241008T180000
DTEND;TZID=UTC:20241008T200000
DTSTAMP:20260421T112429
CREATED:20231206T180323Z
LAST-MODIFIED:20241021T151638Z
UID:4709-1728410400-1728417600@www.rensselaercounty.org
SUMMARY:Regular Meeting October 2024
DESCRIPTION:Certified Packet 10-8-24\nSp. Rules 10-8-2024 \nMeeting Packet 10-8-24 \nLegislative Meeting will be held in the Legislative Chambers located at 99 Troy Road\, East Greenbush\, NY 12061 . \nFor more information on the meeting\, please contact the office at 518-270-2880. \n  \n  \n  \n  \n  \n 
URL:https://www.rensselaercounty.org/event/regular-meeting-october-2024/
END:VEVENT
BEGIN:VEVENT
DTSTART;VALUE=DATE:20241014
DTEND;VALUE=DATE:20241015
DTSTAMP:20260421T112429
CREATED:20240916T190344Z
LAST-MODIFIED:20240916T190344Z
UID:5556-1728864000-1728950399@www.rensselaercounty.org
SUMMARY:Columbus Day - Office closed
DESCRIPTION:Office Closed
URL:https://www.rensselaercounty.org/event/columbus-day-office-closed-3/
END:VEVENT
BEGIN:VEVENT
DTSTART;TZID=UTC:20241015T083000
DTEND;TZID=UTC:20241015T090000
DTSTAMP:20260421T112429
CREATED:20231206T172100Z
LAST-MODIFIED:20241021T153013Z
UID:4688-1728981000-1728982800@www.rensselaercounty.org
SUMMARY:October 2024 Honor A Deceased Veteran - Michael A. DeBonis
DESCRIPTION:  \n \nMichael A. DeBonis\n1950-2005 \nFAMILY HISTORY:\nMichael A. DeBonis was born on September 7\, 1950 in Troy\, New York. He was the son of Michael and Josephine (Casale) DeBonis\, and brother to Anna Marie\, and the late Lorraine and Donnie. \nEDUCATION:\n Michael grew up in Troy\, New York and received his education through St. Mary’s School\, and graduated from Troy High School and Hudson Valley Community College. \nHISTORY:\nIn 1970\, Michael enlisted in the United State Army in Troy\, New York. He served during the Vietnam War receiving the National Defense Service Medal; Vietnam Service Medal; Vietnam Campaign Medal; 2 O/S Bars; Sharpshooter Badge Rifle M16; Expert Badge Hand Grenade. \nPERSONAL:\nMichael married his wife\, Kathleen A. (Agostine) DeBonis on May 4\, 1973 in Troy\, New York. Together they had two children: The late Michael and Lindsay DeBonis; Brother-in-law to: Dominic Mancino\, Mary Finelli\, Fran Agostine and Jean Holmes; Survived by several nieces and nephews. \nWORK EXPERIENCE:\nAfter his Honorable Discharge from the Army in 1972\, Michael continued his employment with the Watervliet Arsenal for over 20 years. \n  \nCOMMUNITY ACTIVITIES/ORGANIZATIONS:\nIn his spare time\, Michael enjoyed spending time hunting\, darts\, enjoyed playing a mean game of corks and the comradery with fellow members of CRAB Club\, Emerald Club\, Disabled American Veterans (DAV) and the American Legion. \nSadly\, on March 22\, 2005\, Michael passed away.
URL:https://www.rensselaercounty.org/event/october-2024-honor-a-deceased-veteran/
CATEGORIES:Honor a Veteran
END:VEVENT
END:VCALENDAR