BEGIN:VCALENDAR
VERSION:2.0
PRODID:-//Rensselaer County Legislature - ECPv6.15.17.1//NONSGML v1.0//EN
CALSCALE:GREGORIAN
METHOD:PUBLISH
X-WR-CALNAME:Rensselaer County Legislature
X-ORIGINAL-URL:https://www.rensselaercounty.org
X-WR-CALDESC:Events for Rensselaer County Legislature
REFRESH-INTERVAL;VALUE=DURATION:PT1H
X-Robots-Tag:noindex
X-PUBLISHED-TTL:PT1H
BEGIN:VTIMEZONE
TZID:UTC
BEGIN:STANDARD
TZOFFSETFROM:+0000
TZOFFSETTO:+0000
TZNAME:UTC
DTSTART:20230101T000000
END:STANDARD
END:VTIMEZONE
BEGIN:VEVENT
DTSTART;TZID=UTC:20240408T083000
DTEND;TZID=UTC:20240408T090000
DTSTAMP:20260421T020118
CREATED:20231206T165822Z
LAST-MODIFIED:20240419T153436Z
UID:4671-1712565000-1712566800@www.rensselaercounty.org
SUMMARY:April 2024 Honor A Deceased Veteran - Thomas William “Bill” Killian
DESCRIPTION:  \n \nThomas William “Bill” Killian\n1931-2023 \nFAMILY HISTORY:\nThomas William “Bill” Killian was born on April 8\, 1931 in Troy\, New York. He was the son of William and Phoebe (Jeavons) Killian\, and the brother of Linda and Raymond. \nEDUCATION:\nBill grew up in Troy\, New York and received his education through the Troy Public School System. \nHISTORY:\nIn 1951\, Bill enlisted in the United States Navy in Albany\, New York. He was trained as a Shipfitter\, and served aboard the USS Baltimore (CA-68)\, the USS Lowe (DE-325)\, the USS Sierra (AD-18)\, and the USS Jason (AR-8). On September 2\, 1971\, with the rank of Shipfitter First Class\, Bill was honorably retired from the United States Navy at San Diego\, California\, after twenty years of faithful service. For his honorable service\, he received the Good Conduct Medal (Fifth Award)\, the National Defense Service Medal\, and the Vietnam Service Medal with two Bronze Service Stars. \nPERSONAL:\nBill married his wife\, Patricia (Pitcher) on October 25\, 1952 in Troy\, New York. Together they had four children: Beth\, Colleen\, Thomas and Patricia Ann; six grandchildren: Matthew\, Jason\, Amanda\, Christopher\, Jonathan and Diane; and twelve great-grandchildren. \nWORK EXPERIENCE:\nAfter his retirement from the Navy\, Bill continued to support his family through his employment with McKinney Steel Fabrications in Albany\, New York\, where he worked as a fitter/welder until his retirement in 1983. \nCOMMUNITY ACTIVITIES/ORGANIZATIONS:\nIn his spare time\, Bill enjoyed spending time with his family camping\, taking cruises\, and surf fishing. \nSadly\, on November 22\, 2023\, Bill passed away. \n 
URL:https://www.rensselaercounty.org/event/april-2024-honor-a-deceased-veteran/
CATEGORIES:Honor a Veteran
END:VEVENT
BEGIN:VEVENT
DTSTART;TZID=UTC:20240409T180000
DTEND;TZID=UTC:20240409T200000
DTSTAMP:20260421T020118
CREATED:20231206T175634Z
LAST-MODIFIED:20240419T154053Z
UID:4699-1712685600-1712692800@www.rensselaercounty.org
SUMMARY:Regular Meeting April 2024
DESCRIPTION:Please note that due to equipment issues\, only the the audio recorded for the April 9\, 2024 meeting. \nCertified Packet 4-9-24 \nMeeting Packet 4-9-24 \nSpecial Rules Packet-April 2024 \nLegislative Meeting will be held in the Legislative Chambers located at 99 Troy Road\, East Greenbush\, NY 12061 . \nFor more information on the meeting\, please contact the office at 518-270-2880. \n  \n  \n  \n  \n  \n 
URL:https://www.rensselaercounty.org/event/regular-meeting-april-2024/
END:VEVENT
END:VCALENDAR