BEGIN:VCALENDAR
VERSION:2.0
PRODID:-//Rensselaer County Legislature - ECPv6.15.17.1//NONSGML v1.0//EN
CALSCALE:GREGORIAN
METHOD:PUBLISH
X-ORIGINAL-URL:https://www.rensselaercounty.org
X-WR-CALDESC:Events for Rensselaer County Legislature
REFRESH-INTERVAL;VALUE=DURATION:PT1H
X-Robots-Tag:noindex
X-PUBLISHED-TTL:PT1H
BEGIN:VTIMEZONE
TZID:UTC
BEGIN:STANDARD
TZOFFSETFROM:+0000
TZOFFSETTO:+0000
TZNAME:UTC
DTSTART:20220101T000000
END:STANDARD
END:VTIMEZONE
BEGIN:VTIMEZONE
TZID:America/New_York
BEGIN:DAYLIGHT
TZOFFSETFROM:-0500
TZOFFSETTO:-0400
TZNAME:EDT
DTSTART:20220313T070000
END:DAYLIGHT
BEGIN:STANDARD
TZOFFSETFROM:-0400
TZOFFSETTO:-0500
TZNAME:EST
DTSTART:20221106T060000
END:STANDARD
BEGIN:DAYLIGHT
TZOFFSETFROM:-0500
TZOFFSETTO:-0400
TZNAME:EDT
DTSTART:20230312T070000
END:DAYLIGHT
BEGIN:STANDARD
TZOFFSETFROM:-0400
TZOFFSETTO:-0500
TZNAME:EST
DTSTART:20231105T060000
END:STANDARD
BEGIN:DAYLIGHT
TZOFFSETFROM:-0500
TZOFFSETTO:-0400
TZNAME:EDT
DTSTART:20240310T070000
END:DAYLIGHT
BEGIN:STANDARD
TZOFFSETFROM:-0400
TZOFFSETTO:-0500
TZNAME:EST
DTSTART:20241103T060000
END:STANDARD
END:VTIMEZONE
BEGIN:VEVENT
DTSTART;TZID=UTC:20231204T180000
DTEND;TZID=UTC:20231204T183000
DTSTAMP:20260420T190928
CREATED:20230810T155329Z
LAST-MODIFIED:20240131T190005Z
UID:4388-1701712800-1701714600@www.rensselaercounty.org
SUMMARY:Special Meeting to Adopt 2024 Budget
DESCRIPTION:Certified Packet 12-4-23 \nBudget Meeting Packet- \n2024 Tentative Budget \n  \nSPECIAL MEETING NOTICE\, pursuant to Rule No. 1C of the Rules of the Rensselaer County Legislature and in accordance with the NYS Open Meeting Law\, Section 104\, a special meeting of the Rensselaer County Legislature will be held on: Monday\, December 4\, 2023 at 6:00 p.m.  The purpose of this meeting is to act upon the proposed 2024 Rensselaer County Budget and any other legislation filed in accordance with Rule 16C of the Rules of the Rensselaer County\,   in the Legislative Chambers of the Rensselaer County Office Building\, 99 Troy Road\, East Greenbush New York. \nJessica L. Charette\, Clerk\nRensselaer County Legislature \nFor more information on the meeting\, please contact the office at 518-270-2880. \n  \n  \n  \n  \n  \n 
URL:https://www.rensselaercounty.org/event/special-meeting-to-adopt-2024-budget/
END:VEVENT
BEGIN:VEVENT
DTSTART;TZID=UTC:20231206T180000
DTEND;TZID=UTC:20231206T190000
DTSTAMP:20260420T190928
CREATED:20230810T155550Z
LAST-MODIFIED:20230810T155550Z
UID:4390-1701885600-1701889200@www.rensselaercounty.org
SUMMARY:Public Forum- December 2023
DESCRIPTION: No more than three (3) persons shall be permitted to address the Legislature on the same subject and no person shall speak for more than five (5) minutes on such subject without the permission of the Chairperson. Speakers must be signed up by 6:00 p.m.                                                                                                      \n **Please Note** Speakers must be from Rensselaer County \nPublic Forum is held in the Legislative Chambers located at 99 Troy Road\, East Greenbush\, NY 12061 . \n  \nFor more information on the meeting\, please contact the office at 518-270-2880. \n  \n  \n  \n  \n  \n 
URL:https://www.rensselaercounty.org/event/public-forum-december-2023/
END:VEVENT
BEGIN:VEVENT
DTSTART;TZID=UTC:20231211T083000
DTEND;TZID=UTC:20231211T090000
DTSTAMP:20260420T190928
CREATED:20221109T133500Z
LAST-MODIFIED:20240131T185714Z
UID:3311-1702283400-1702285200@www.rensselaercounty.org
SUMMARY:December 2023 Honor A Deceased Veteran- Roger W. Hogle
DESCRIPTION:HONOR-A-DECEASED-VETERAN \nDECEMBER 2023\nRoger W. Hogle\n1955-2012 \nFAMILY HISTORY:\nRoger W. Hogle was born on October 2\, 1955 in Troy\, New York. He was the son of Robert and Annabell (Brand) Hogle\, and the brother of Susan and Sharon. \nEDUCATION:\nRoger grew up and lived his entire life in Averill Park\, New York where he attended Averill Park High School. \nHISTORY:\nAfter graduating high school\, Roger enlisted in the United States Army in Albany\, New York on April 8\, 1974. He finished basic training and then attended a 70-week training course on NIKE Radar and Computer Repair at Redstone Arsenal\, Alabama\, and went on to serve as a NIKE Track Radar Repairer in Korea. On April 7\, 1977\, with the rank of Specialist Fourth Class\, Roger was honorable discharged from the United States Army. For his honorable service\, he received the National Defense Service Medal\, Sharpshooter Badge with Rifle Bar\, and Marksmanship Badge with Grenade Bar. \nPERSONAL:\nRoger raised his two sons\, Daniel and Dustin\, in Averill Park where he lived and grew up on land that his family owned for generations. On August 4\, 1994\, Roger married his wife\, Ann Colaneri\, in Troy\, New York. Through his marriage with Ann\, he gained two more children: Angela and Kyle. Roger’s family continued to grow to include his loving grandchildren: Lauren\, Jillian\, Jarod\, Lilly\, Anakin\, Asher and the late Daniel\, Jr. \nWORK EXPERIENCE:\nAfter his time in the Army\, Roger worked for Teledyne Gurley in Troy\, New York before beginning his employment with CSX Transportation\, where he gained a work family which he considered to be his “brothers” at the railroad. \n  \nCOMMUNITY ACTIVITIES/ORGANIZATIONS:\nRoger enjoyed life to the fullest\, having no regrets\, and created many memories with his family and friends. He was a great storyteller of his life experiences and had an easygoing nature. Roger liked to fish and spend time with his family including his cherished grandchildren and his loyal companion\, Lucky. \nSadly\, on July 3\, 2012\, Roger passed away.
URL:https://www.rensselaercounty.org/event/december-2023-honor-a-deceased-veteran/
CATEGORIES:Honor a Veteran
END:VEVENT
BEGIN:VEVENT
DTSTART;TZID=UTC:20231212T173000
DTEND;TZID=UTC:20231212T180000
DTSTAMP:20260420T190928
CREATED:20231128T195141Z
LAST-MODIFIED:20231128T195141Z
UID:4626-1702402200-1702404000@www.rensselaercounty.org
SUMMARY:Public Hearing
DESCRIPTION:NOTICE OF PUBLIC HEARING \nNOTICE IS HEREBY GIVEN that the County Legislature of the County of Rensselaer\, New York will meet in the Legislative Chambers\, Rensselaer County Office Building\, 99 Troy Road\, East Greenbush\, New York on December 12\, 2023 at 5:30 PM\, prevailing time\, for the purpose of conducting a public hearing concerning the proposed Aeration Improvement Project for the Rensselaer County Sewer District No.1\, together with any necessary site work and the acquisition and installation of furnishings\, equipment\, machinery and apparatus for the foregoing purposes\, together with the preparation of planning\, engineering and feasibility studies and review. The proposed work is detailed in the map and plan prepared by Ramboll f/k/a O’Brien & Gere Engineers\, Inc.\, which is on file for inspection in the office of the Clerk of the County of Rensselaer located at 1600 Seventh Avenue in Troy\, New York. The estimated cost of the project is $14\,214\,000. The County intends to fund and finance the project through NYSEFC and bond issuance. At this time\, the estimated annual cost to be assessed to properties for these improvements is $0.00. At such public hearing\, the Rensselaer County Legislature will hear all persons interested in this matter. \n  \nLegislative Meeting will be held in the Legislative Chambers located at 99 Troy Road\, East Greenbush\, NY 12061 . \nFor more information on the meeting\, please contact the office at 518-270-2880. \n  \n  \n  \n  \n  \n 
URL:https://www.rensselaercounty.org/event/public-hearing-5/
END:VEVENT
BEGIN:VEVENT
DTSTART;TZID=UTC:20231212T180000
DTEND;TZID=UTC:20231212T200000
DTSTAMP:20260420T190928
CREATED:20230629T144356Z
LAST-MODIFIED:20240131T184056Z
UID:4178-1702404000-1702411200@www.rensselaercounty.org
SUMMARY:Regular Meeting December 2023
DESCRIPTION:Certified Packet 12-12-23 \nSpecial Rules Packet \nMeeting Packet 12-12-23 \nLegislative Meeting will be held in the Legislative Chambers located at 99 Troy Road\, East Greenbush\, NY 12061 . \nFor more information on the meeting\, please contact the office at 518-270-2880. \n  \n  \n  \n  \n  \n 
URL:https://www.rensselaercounty.org/event/regular-meeting-december-2023/
END:VEVENT
BEGIN:VEVENT
DTSTART;TZID=America/New_York:20231219T180000
DTEND;TZID=America/New_York:20231219T190000
DTSTAMP:20260420T190928
CREATED:20230810T154747Z
LAST-MODIFIED:20231218T212602Z
UID:4385-1703008800-1703012400@www.rensselaercounty.org
SUMMARY:Special Meeting
DESCRIPTION:Special Meeting Packet 12-19-23 \n\nSPECIAL MEETING NOTICE\, pursuant to Rule No. 1C of the Rules of the Rensselaer County Legislature and in accordance with the NYS Open Meeting Law\, Section 104\, a special meeting of the Rensselaer County Legislature will be held on: Tuesday\, December 19\, 2023 at 6:00 p.m.  The purpose of this meeting is to act upon Legislation filed in accordance with Rule 16C of the Rules of the Rensselaer County Legislature in the Legislative Chambers of the Rensselaer County Office Building\, 99 Troy Road\, East Greenbush\, New York. \n  \nJessica L. Charette\, Clerk\nRensselaer County Legislature
URL:https://www.rensselaercounty.org/event/special-meeting-7/
END:VEVENT
BEGIN:VEVENT
DTSTART;VALUE=DATE:20231225
DTEND;VALUE=DATE:20231226
DTSTAMP:20260420T190928
CREATED:20221109T135239Z
LAST-MODIFIED:20221109T135239Z
UID:3333-1703462400-1703548799@www.rensselaercounty.org
SUMMARY:Christmas Day - Office closed
DESCRIPTION:Office Closed
URL:https://www.rensselaercounty.org/event/christmas-day-office-closed/
END:VEVENT
END:VCALENDAR