BEGIN:VCALENDAR
VERSION:2.0
PRODID:-//Rensselaer County Legislature - ECPv6.15.17.1//NONSGML v1.0//EN
CALSCALE:GREGORIAN
METHOD:PUBLISH
X-ORIGINAL-URL:https://www.rensselaercounty.org
X-WR-CALDESC:Events for Rensselaer County Legislature
REFRESH-INTERVAL;VALUE=DURATION:PT1H
X-Robots-Tag:noindex
X-PUBLISHED-TTL:PT1H
BEGIN:VTIMEZONE
TZID:UTC
BEGIN:STANDARD
TZOFFSETFROM:+0000
TZOFFSETTO:+0000
TZNAME:UTC
DTSTART:20220101T000000
END:STANDARD
END:VTIMEZONE
BEGIN:VTIMEZONE
TZID:America/New_York
BEGIN:DAYLIGHT
TZOFFSETFROM:-0500
TZOFFSETTO:-0400
TZNAME:EDT
DTSTART:20220313T070000
END:DAYLIGHT
BEGIN:STANDARD
TZOFFSETFROM:-0400
TZOFFSETTO:-0500
TZNAME:EST
DTSTART:20221106T060000
END:STANDARD
BEGIN:DAYLIGHT
TZOFFSETFROM:-0500
TZOFFSETTO:-0400
TZNAME:EDT
DTSTART:20230312T070000
END:DAYLIGHT
BEGIN:STANDARD
TZOFFSETFROM:-0400
TZOFFSETTO:-0500
TZNAME:EST
DTSTART:20231105T060000
END:STANDARD
BEGIN:DAYLIGHT
TZOFFSETFROM:-0500
TZOFFSETTO:-0400
TZNAME:EDT
DTSTART:20240310T070000
END:DAYLIGHT
BEGIN:STANDARD
TZOFFSETFROM:-0400
TZOFFSETTO:-0500
TZNAME:EST
DTSTART:20241103T060000
END:STANDARD
END:VTIMEZONE
BEGIN:VEVENT
DTSTART;VALUE=DATE:20231107
DTEND;VALUE=DATE:20231108
DTSTAMP:20260420T171707
CREATED:20221109T135028Z
LAST-MODIFIED:20221109T135028Z
UID:3329-1699315200-1699401599@www.rensselaercounty.org
SUMMARY:Election Day - Office closed
DESCRIPTION:Office Closed
URL:https://www.rensselaercounty.org/event/election-day-office-closed/
END:VEVENT
BEGIN:VEVENT
DTSTART;TZID=UTC:20231108T180000
DTEND;TZID=UTC:20231108T190000
DTSTAMP:20260420T171707
CREATED:20230629T144920Z
LAST-MODIFIED:20230629T144920Z
UID:4188-1699466400-1699470000@www.rensselaercounty.org
SUMMARY:Public Forum- November 2023
DESCRIPTION: No more than three (3) persons shall be permitted to address the Legislature on the same subject and no person shall speak for more than five (5) minutes on such subject without the permission of the Chairperson. Speakers must be signed up by 6:00 p.m.                                                                                                      \n **Please Note** Speakers must be from Rensselaer County \nPublic Forum is held in the Legislative Chambers located at 99 Troy Road\, East Greenbush\, NY 12061 . \n  \nFor more information on the meeting\, please contact the office at 518-270-2880. \n  \n  \n  \n  \n  \n 
URL:https://www.rensselaercounty.org/event/public-forum-november-2023/
END:VEVENT
BEGIN:VEVENT
DTSTART;TZID=America/New_York:20231109T173000
DTEND;TZID=America/New_York:20231109T183000
DTSTAMP:20260420T171707
CREATED:20230810T153922Z
LAST-MODIFIED:20231116T200635Z
UID:4379-1699551000-1699554600@www.rensselaercounty.org
SUMMARY:Public Hearing
DESCRIPTION:Public Hearing to review 2024 Tentative Budget \nNOTICE OF PUBLIC HEARING \nPLEASE TAKE NOTICE\, That pursuant to Section 5.03 B (3) of the Rensselaer County Charter\, a Public Hearing will be held in the Chambers of the Rensselaer County Legislature at the County Office Building\, 99 Troy Road\, East Greenbush\, New York on Thursday\, November 9\, 2023\, at 5:30 p.m. regarding the 2024 Rensselaer County Tentative Budget.
URL:https://www.rensselaercounty.org/event/public-hearing-3/
END:VEVENT
BEGIN:VEVENT
DTSTART;TZID=UTC:20231113T083000
DTEND;TZID=UTC:20231113T090000
DTSTAMP:20260420T171707
CREATED:20221109T133438Z
LAST-MODIFIED:20231116T195658Z
UID:3312-1699864200-1699866000@www.rensselaercounty.org
SUMMARY:November 2023 Honor A Deceased Veteran - Richard L. Butterfield
DESCRIPTION:Richard L. Butterfield\n1945-2022 \nFAMILY HISTORY:\nRichard “Rick” L. Butterfield was born on April 25\, 1945 in Mansfield\, Ohio. He was the son of Richard and Shirley (Larkin) Butterfield\, and the brother of Sharon and Rodney. \nEDUCATION:\nAs a child\, Rick’s family moved to Averill Park\, New York where he attended Averill Park High School\, and then went on to attend The State University of New York where he received his bachelor’s degree. \nHISTORY:\nOn September 30\, 1963\, Rick enlisted in the United States Army in Albany\, New York. He was commissioned a second lieutenant upon graduation from Officer Candidate School at Ft. Benning\, Georgia in March 1965 and sent to Vietnam as a Pathfinder Team Leader\, 11th Pathfinders 1st Cav. Division. He saw combat in the battles at LZ X-Ray\, LZ Columbus and LZ Albany-Ia Drang Valley\, where he and his team directed helicopter resupply and medical evacuation and rescue missions. It was here that he was wounded and did not leave his team until all other wounded soldiers were removed from the battlefield. Rick served his second tour in Vietnam in 1968 as Captain and company commander of E Company\, 2nd Battalion\, 506 Infantry\, 101st Airborne. His company conducted many combat operations. After recovering from injuries at Camp Zama\, Japan he returned to Vietnam and served as Team Commander with the 5th Special Forces Group (Airborne) Green Berets assigned to MACV-SOG. Missions from his unit were classified. \nOn February 10\, 1970\, Rick was honorably discharged from the United States Army. For his honorable service\, he was awarded many personal awards which include the Legion of Merit\, Purple Heart\, Meritorious Service Medal\, Air Medal\, Army Commendation Medal\, Vietnam Service Medal\, Republic of Vietnam Campaign Medal\, Army Reserve Component Achievement Medal (6th Award)\, Armed Forces Reserve Medal (2nd Award)\, Army Service Ribbon\, Parachute Badge\, National Defense Service Medal (2nd Award)\, Army Good Conduct Medal\, Overseas Service Ribbon (3rd Award)\, Combat Infantryman Badge\, Master Parachutist Badge\, Special Forces Tab\, Vietnam Cross of Gallantry with Palms\, and Vietnam Special Forces Jump Wings. After serving on active duty\, Rick served in the New York Army National Guard as a company commander\, Battalion Commander 2nd of the 105th Infantry\, and as a Commander of the 1st Brigade\, 42nd Infantry Division. Rick was breveted to the rank of Brigadier General upon his retirement in 1995. \n PERSONAL:\nOn July 27\, 2020\, Rick married his wife\, Cathy (Bullis) in Flagler County\, Florida. He has three loving children: Lori\, Hayden and the late Eric; and seven grandchildren: Emma\, Robert\, Grace\, Kasha\, Zoe\, Hayden and Roan. \nWORK EXPERIENCE:\nAfter his years of service\, Rick spent 35 years the New York State Police\, serving from 1970 to 2006. There he received certification at the Canine Handlers Basic School with his K-9 partner Frey who was trained in explosives detection. Rick moved into undercover work as an investigator with CNET and the BCI\, and also spent time as a Firearms Instructor\, Rifle Sharpshooter\, member of the Underwater Recovery Team and was the Police Benevolent Association Delegate\, Troop G. After retiring from the NYS Police\, Rick joined the Warren County Sheriff’s Office as Marine Patrol on Lake George and then was cross designated to go back undercover to work on a Task Force with NYS Police CNET where he again received commendation for his undercover work. Rick was awarded the NYS Conspicuous Service Medal\, the NYS Military Commendation Medal\, the NYS Aid to Civil Authorities Medal (2nd Award)\, the Long and Faithful Service Award (25 years)\, and was the third recipient of the Rev. Francis A. Kelley Home Town Hero Award in 2016. \nCOMMUNITY ACTIVITIES/ORGANIZATIONS:\nRick was the Commodore (1997) and a lifetime member of the Castleton Boat Club\, lifetime member of the Nassau Sportsmen’s Club\, past board member of Lebanon Valley Speedway and was a member of the Disabled American Veterans of Troy. He was a member of the Renegade Pigs Motorcycle Club and enjoyed their annual Christmas visit to St. Margaret’s Center wearing his Santa hat. \nRick loved to work on and drive cars and motorcycles\, and enjoyed riding his Harley cross country. He also liked boating\, fishing\, checking out new restaurants and spending time with his family\, friends and his dog Harper. \nSadly\, on May 16\, 2022\, Rick passed away. \n  \n  \nHonor A Deceased Veteran Ceremony will be held in the Legislative Chambers of the Rensselaer County Legislature. \n**Please note the new location:  99 Troy Road\, East Greenbush\, N.Y. 12061. \nFor questions or application information\, please contact the Legislature at 518-270-2880. \n 
URL:https://www.rensselaercounty.org/event/november-2023-honor-a-deceased-veteran/
CATEGORIES:Honor a Veteran
END:VEVENT
BEGIN:VEVENT
DTSTART;TZID=America/New_York:20231114T173000
DTEND;TZID=America/New_York:20231114T183000
DTSTAMP:20260420T171707
CREATED:20230810T154122Z
LAST-MODIFIED:20231116T200740Z
UID:4380-1699983000-1699986600@www.rensselaercounty.org
SUMMARY:Public Hearing
DESCRIPTION:  \n \nPublic Hearing to review 2024 Tentative Budget \nNOTICE OF PUBLIC HEARING \n PLEASE TAKE NOTICE\, That pursuant to Section 5.03 B (3) of the Rensselaer County Charter\, a Public Hearing will be held in the Chambers of the Rensselaer County Legislature at the County Office Building\, 99 Troy Road\, East Greenbush\, New York on Tuesday\, November 14\, 2023\, at 5:30 p.m. regarding the changes proposed by the Finance Committee of the Rensselaer County Legislature to the 2024 Rensselaer County Tentative Budget.
URL:https://www.rensselaercounty.org/event/public-hearing-4/
END:VEVENT
BEGIN:VEVENT
DTSTART;TZID=UTC:20231114T180000
DTEND;TZID=UTC:20231114T200000
DTSTAMP:20260420T171707
CREATED:20230629T144311Z
LAST-MODIFIED:20231116T191225Z
UID:4176-1699984800-1699992000@www.rensselaercounty.org
SUMMARY:Regular Meeting November 2023
DESCRIPTION:Meeting Packet 11-14-23 \nLegislative Meeting will be held in the Legislative Chambers located at 99 Troy Road\, East Greenbush\, NY 12061 . \nFor more information on the meeting\, please contact the office at 518-270-2880. \n  \n  \n  \n  \n  \n 
URL:https://www.rensselaercounty.org/event/regular-meeting-november-2023/
END:VEVENT
BEGIN:VEVENT
DTSTART;VALUE=DATE:20231123
DTEND;VALUE=DATE:20231124
DTSTAMP:20260420T171707
CREATED:20230810T154209Z
LAST-MODIFIED:20230810T154209Z
UID:4383-1700697600-1700783999@www.rensselaercounty.org
SUMMARY:Office closed
DESCRIPTION:Office Closed
URL:https://www.rensselaercounty.org/event/office-closed-28/
END:VEVENT
BEGIN:VEVENT
DTSTART;VALUE=DATE:20231124
DTEND;VALUE=DATE:20231125
DTSTAMP:20260420T171707
CREATED:20221109T135126Z
LAST-MODIFIED:20221109T135155Z
UID:3334-1700784000-1700870399@www.rensselaercounty.org
SUMMARY:Office closed
DESCRIPTION:Office Closed
URL:https://www.rensselaercounty.org/event/thanksgiving-day-office-closed/
END:VEVENT
END:VCALENDAR