BEGIN:VCALENDAR
VERSION:2.0
PRODID:-//Rensselaer County Legislature - ECPv6.15.17.1//NONSGML v1.0//EN
CALSCALE:GREGORIAN
METHOD:PUBLISH
X-ORIGINAL-URL:https://www.rensselaercounty.org
X-WR-CALDESC:Events for Rensselaer County Legislature
REFRESH-INTERVAL;VALUE=DURATION:PT1H
X-Robots-Tag:noindex
X-PUBLISHED-TTL:PT1H
BEGIN:VTIMEZONE
TZID:UTC
BEGIN:STANDARD
TZOFFSETFROM:+0000
TZOFFSETTO:+0000
TZNAME:UTC
DTSTART:20220101T000000
END:STANDARD
END:VTIMEZONE
BEGIN:VEVENT
DTSTART;TZID=UTC:20231004T180000
DTEND;TZID=UTC:20231004T190000
DTSTAMP:20260420T154023
CREATED:20230629T150004Z
LAST-MODIFIED:20230629T150004Z
UID:4199-1696442400-1696446000@www.rensselaercounty.org
SUMMARY:Public Forum- October 2023
DESCRIPTION: No more than three (3) persons shall be permitted to address the Legislature on the same subject and no person shall speak for more than five (5) minutes on such subject without the permission of the Chairperson. Speakers must be signed up by 6:00 p.m.                                                                                                      \n **Please Note** Speakers must be from Rensselaer County \nPublic Forum is held in the Legislative Chambers located at 99 Troy Road\, East Greenbush\, NY 12061 . \n  \nFor more information on the meeting\, please contact the office at 518-270-2880. \n  \n  \n  \n  \n  \n 
URL:https://www.rensselaercounty.org/event/public-forum-october-2023/
END:VEVENT
BEGIN:VEVENT
DTSTART;VALUE=DATE:20231009
DTEND;VALUE=DATE:20231010
DTSTAMP:20260420T154023
CREATED:20221109T134952Z
LAST-MODIFIED:20221109T134952Z
UID:3330-1696809600-1696895999@www.rensselaercounty.org
SUMMARY:Columbus Day - Office closed
DESCRIPTION:Office Closed
URL:https://www.rensselaercounty.org/event/columbus-day-office-closed-2/
END:VEVENT
BEGIN:VEVENT
DTSTART;TZID=UTC:20231010T083000
DTEND;TZID=UTC:20231010T090000
DTSTAMP:20260420T154023
CREATED:20221109T133351Z
LAST-MODIFIED:20231010T134942Z
UID:3303-1696926600-1696928400@www.rensselaercounty.org
SUMMARY:October 2023 Honor A Deceased Veteran Richard E. Santspree
DESCRIPTION:HONOR-A-DECEASED-VETERAN \nOCTOBER 2023\nRichard E. Santspree\n1950-2022 \nFAMILY HISTORY:\nRichard E Santspree was born on July 28\, 1950 in Troy\, New York. He was the son of Robert and June (Seguin) Santspree\, and the brother of Roberta\, Donald\, Robert\, Cynthia\, Michael and the late Paula. \nEDUCATION:\nRichard grew up in Cohoes\, New York and received his education through the Cohoes City School District.  \nHISTORY:\nOn October 30\, 1967\, Richard enlisted in the United States Army in Albany\, New York and served during the Vietnam War. He completed and received his GED in 1970 while serving. Richard was honorably discharged with the rank of Specialist Fourth Class on October 21\, 1970. For his honorable service\, he received the Armed Forces Expeditionary Medal\, National Defense Service Medal\, the Expert M16 and Sharpshooter M14. \nPERSONAL:\nOn April 3\, 1971\, Richard married his wife\, Christine (Hogan) at St. Rita’s Church in Cohoes\, New York. Together they had three loving children: Kimberly\, Richard and Thomas; four grandchildren: Kyle\, Kayeleigh\, Violet and Brayden; and several nieces and nephews. \nWORK EXPERIENCE:\nRichard worked for GE in Schenectady\, New York as a machinist for 40 years until he retired on August 1\, 2010. \n  \nCOMMUNITY ACTIVITIES/ORGANIZATIONS:\nRichard was an active member of the community and loved spending time with his family\, especially during the holidays and traveling for family vacations. He was a member of the Cohoes Rod & Gun Club\, American Legion Ruane Post 476\, Cohoes Moose Club and the Cohoes-Waterford Elks Lodge #1317. For many years\, Richard volunteered at the St. Rita’s Church annual bazaar and the Cohoes Rod & Gun Club’s annual kids fishing contest at Van Schaick Island Pond. He enjoyed participating in bowling and dart & horseshoe leagues over the years. \nSadly\, on June 28\, 2022\, Richard passed away. \n  \nHonor A Deceased Veteran Ceremony will be held in the Legislative Chambers of the Rensselaer County Legislature. \n**Please note the new location:  99 Troy Road\, East Greenbush\, N.Y. 12061. \nFor questions or application information\, please contact the Legislature at 518-270-2880. \n 
URL:https://www.rensselaercounty.org/event/october-2023-honor-a-deceased-veteran/
CATEGORIES:Honor a Veteran
END:VEVENT
BEGIN:VEVENT
DTSTART;TZID=UTC:20231010T180000
DTEND;TZID=UTC:20231010T200000
DTSTAMP:20260420T154023
CREATED:20230629T144153Z
LAST-MODIFIED:20231013T192826Z
UID:4174-1696960800-1696968000@www.rensselaercounty.org
SUMMARY:Regular Meeting October 2023
DESCRIPTION:Certified Packet 10-10-23 \nMeeting Packet 10-10-23 \nLegislative Meeting will be held in the Legislative Chambers located at 99 Troy Road\, East Greenbush\, NY 12061 . \nFor more information on the meeting\, please contact the office at 518-270-2880. \n  \n  \n  \n  \n  \n 
URL:https://www.rensselaercounty.org/event/regular-meeting-october-2023/
END:VEVENT
BEGIN:VEVENT
DTSTART;TZID=UTC:20231019T180000
DTEND;TZID=UTC:20231019T200000
DTSTAMP:20260420T154023
CREATED:20231016T154123Z
LAST-MODIFIED:20231018T194850Z
UID:4556-1697738400-1697745600@www.rensselaercounty.org
SUMMARY:Special Meeting
DESCRIPTION:Special Meeting Packet 10-19-2023 \nPLEASE TAKE NOTICE\, That pursuant to Rule No. 1C of the Rules of the Rensselaer County Legislature\, I hereby call a special meeting of the Rensselaer County Legislature to be held on Thursday\, October 19\, 2023 at 6:00 p.m. in the Legislative Chambers of the Rensselaer County Office Building\, 99 Troy Road\, East Greenbush\, N.Y. \nThe purpose of the meeting is to act upon: \nRESOLUTION CONFIRMING APPOINTMENT OF COMMISSIONER OF BOARD OF ELECTIONS FOR THE COUNTY OF RENSSELAER \nPlease notify all members of the special meeting under the provisions of this rule. \n  \nLegislative Meeting will be held in the Legislative Chambers located at 99 Troy Road\, East Greenbush\, NY 12061 . \nFor more information on the meeting\, please contact the office at 518-270-2880. \n  \n  \n  \n  \n  \n 
URL:https://www.rensselaercounty.org/event/special-meeting-8/
END:VEVENT
END:VCALENDAR