BEGIN:VCALENDAR
VERSION:2.0
PRODID:-//Rensselaer County Legislature - ECPv6.15.17.1//NONSGML v1.0//EN
CALSCALE:GREGORIAN
METHOD:PUBLISH
X-WR-CALNAME:Rensselaer County Legislature
X-ORIGINAL-URL:https://www.rensselaercounty.org
X-WR-CALDESC:Events for Rensselaer County Legislature
REFRESH-INTERVAL;VALUE=DURATION:PT1H
X-Robots-Tag:noindex
X-PUBLISHED-TTL:PT1H
BEGIN:VTIMEZONE
TZID:UTC
BEGIN:STANDARD
TZOFFSETFROM:+0000
TZOFFSETTO:+0000
TZNAME:UTC
DTSTART:20220101T000000
END:STANDARD
END:VTIMEZONE
BEGIN:VTIMEZONE
TZID:America/New_York
BEGIN:DAYLIGHT
TZOFFSETFROM:-0500
TZOFFSETTO:-0400
TZNAME:EDT
DTSTART:20220313T070000
END:DAYLIGHT
BEGIN:STANDARD
TZOFFSETFROM:-0400
TZOFFSETTO:-0500
TZNAME:EST
DTSTART:20221106T060000
END:STANDARD
BEGIN:DAYLIGHT
TZOFFSETFROM:-0500
TZOFFSETTO:-0400
TZNAME:EDT
DTSTART:20230312T070000
END:DAYLIGHT
BEGIN:STANDARD
TZOFFSETFROM:-0400
TZOFFSETTO:-0500
TZNAME:EST
DTSTART:20231105T060000
END:STANDARD
BEGIN:DAYLIGHT
TZOFFSETFROM:-0500
TZOFFSETTO:-0400
TZNAME:EDT
DTSTART:20240310T070000
END:DAYLIGHT
BEGIN:STANDARD
TZOFFSETFROM:-0400
TZOFFSETTO:-0500
TZNAME:EST
DTSTART:20241103T060000
END:STANDARD
END:VTIMEZONE
BEGIN:VEVENT
DTSTART;VALUE=DATE:20230102
DTEND;VALUE=DATE:20230103
DTSTAMP:20260420T140046
CREATED:20221109T134415Z
LAST-MODIFIED:20221109T134415Z
UID:3319-1672617600-1672703999@www.rensselaercounty.org
SUMMARY:New Years Holiday Observed - Office closed
DESCRIPTION:Office Closed
URL:https://www.rensselaercounty.org/event/new-years-holiday-observed-office-closed/
END:VEVENT
BEGIN:VEVENT
DTSTART;TZID=America/New_York:20230103T080000
DTEND;TZID=America/New_York:20230104T170000
DTSTAMP:20260420T140046
CREATED:20221109T140815Z
LAST-MODIFIED:20221109T140815Z
UID:3344-1672732800-1672851600@www.rensselaercounty.org
SUMMARY:Committee Meetings
DESCRIPTION:Committee schedules and agendas can be found on the Committee page. \n 
URL:https://www.rensselaercounty.org/event/committee-meetings-6/
END:VEVENT
BEGIN:VEVENT
DTSTART;TZID=UTC:20230109T083000
DTEND;TZID=UTC:20230109T090000
DTSTAMP:20260420T140046
CREATED:20221107T191218Z
LAST-MODIFIED:20221107T191218Z
UID:3284-1673253000-1673254800@www.rensselaercounty.org
SUMMARY:January 2023 Honor A Deceased Veteran
DESCRIPTION:Honor A Deceased Veteran Ceremony will be held in the Legislative Chambers of the Rensselaer County Legislature. \nFor questions or application information\, please contact the Legislature at 518-270-2880. \n 
URL:https://www.rensselaercounty.org/event/january-2023-honor-a-deceased-veteran/
CATEGORIES:Honor a Veteran
END:VEVENT
BEGIN:VEVENT
DTSTART;TZID=UTC:20230110T180000
DTEND;TZID=UTC:20230110T200000
DTSTAMP:20260420T140046
CREATED:20221109T140641Z
LAST-MODIFIED:20230120T155427Z
UID:3341-1673373600-1673380800@www.rensselaercounty.org
SUMMARY:Regular Meeting January 2023
DESCRIPTION:Certified Packet 1-10-23 \nMeeting Packet 1-10-23 \nSpecial Rules Packet \nThe January Legislative Meeting will be held in the Legislative Chambers located at 1600 Seventh Avenue\, Troy\, NY. \nFor more information on the meeting\, please contact the office at 518-270-2880. \n  \n  \n  \n  \n  \n 
URL:https://www.rensselaercounty.org/event/regular-meeting-january-2023/
END:VEVENT
BEGIN:VEVENT
DTSTART;VALUE=DATE:20230116
DTEND;VALUE=DATE:20230117
DTSTAMP:20260420T140046
CREATED:20221109T134458Z
LAST-MODIFIED:20221109T134458Z
UID:3318-1673827200-1673913599@www.rensselaercounty.org
SUMMARY:Martin Luther King Day - Office closed
DESCRIPTION:Office Closed
URL:https://www.rensselaercounty.org/event/martin-luther-king-day-office-closed/
END:VEVENT
END:VCALENDAR