BEGIN:VCALENDAR
VERSION:2.0
PRODID:-//Rensselaer County Legislature - ECPv6.15.17.1//NONSGML v1.0//EN
CALSCALE:GREGORIAN
METHOD:PUBLISH
X-WR-CALNAME:Rensselaer County Legislature
X-ORIGINAL-URL:https://www.rensselaercounty.org
X-WR-CALDESC:Events for Rensselaer County Legislature
REFRESH-INTERVAL;VALUE=DURATION:PT1H
X-Robots-Tag:noindex
X-PUBLISHED-TTL:PT1H
BEGIN:VTIMEZONE
TZID:America/New_York
BEGIN:DAYLIGHT
TZOFFSETFROM:-0500
TZOFFSETTO:-0400
TZNAME:EDT
DTSTART:20210314T070000
END:DAYLIGHT
BEGIN:STANDARD
TZOFFSETFROM:-0400
TZOFFSETTO:-0500
TZNAME:EST
DTSTART:20211107T060000
END:STANDARD
BEGIN:DAYLIGHT
TZOFFSETFROM:-0500
TZOFFSETTO:-0400
TZNAME:EDT
DTSTART:20220313T070000
END:DAYLIGHT
BEGIN:STANDARD
TZOFFSETFROM:-0400
TZOFFSETTO:-0500
TZNAME:EST
DTSTART:20221106T060000
END:STANDARD
BEGIN:DAYLIGHT
TZOFFSETFROM:-0500
TZOFFSETTO:-0400
TZNAME:EDT
DTSTART:20230312T070000
END:DAYLIGHT
BEGIN:STANDARD
TZOFFSETFROM:-0400
TZOFFSETTO:-0500
TZNAME:EST
DTSTART:20231105T060000
END:STANDARD
END:VTIMEZONE
BEGIN:VTIMEZONE
TZID:UTC
BEGIN:STANDARD
TZOFFSETFROM:+0000
TZOFFSETTO:+0000
TZNAME:UTC
DTSTART:20210101T000000
END:STANDARD
END:VTIMEZONE
BEGIN:VEVENT
DTSTART;TZID=America/New_York:20221206T080000
DTEND;TZID=America/New_York:20221207T170000
DTSTAMP:20260420T153930
CREATED:20220810T151517Z
LAST-MODIFIED:20220810T151522Z
UID:3054-1670313600-1670432400@www.rensselaercounty.org
SUMMARY:Committee Meetings
DESCRIPTION:Committee schedules and agendas can be found on the Committee page. \n 
URL:https://www.rensselaercounty.org/event/committee-meetings-5/
END:VEVENT
BEGIN:VEVENT
DTSTART;TZID=UTC:20221212T083000
DTEND;TZID=UTC:20221212T090000
DTSTAMP:20260420T153930
CREATED:20211210T224946Z
LAST-MODIFIED:20221213T145308Z
UID:2187-1670833800-1670835600@www.rensselaercounty.org
SUMMARY:December 2022 Honor A Deceased Veteran - Henry G. A. Higgitt
DESCRIPTION:Henry G. A. Higgitt\n1900-1950 \nFAMILY HISTORY:\nHenry G. A. Higgitt was born on December 9\, 1900 in Troy\, New York to the William G. and Mary Agnes (Glasheen) Higgitt. He was the brother of Elizabeth\, Marcella\, Grace\, Loretta\, Agnes\, Florence\, William and John. \nEDUCATION:\nHenry was born and raised in Troy\, New York and attended schools in the Troy Public School System before deciding to enlist. \nHISTORY:\nHenry was a World War I and World War II Veteran and enlisted in the New York Army National Guard at the age of eighteen\, and served with Support Company\, 2nd Infantry Division. On December 30\, 1919\, he enlisted in the United States Navy in Albany\, New York. Henry served aboard the USS Eagle\, the USS Sacramento\, the USS Patonka and the USS Denebola. On January 6\, 1928\, Henry was honorably discharged. \nOn January 3\, 1944\, Henry decided to enlist again into the United States Naval Reserve in Boston\, Massachusetts. After he was placed on active duty\, Henry was assigned to the USS Mount Olympus\, and on June 9\, 1946\, he was again honorably discharged from the United States Navy. For his brave service\, Henry was awarded the World War II Victory Medal and the American Campaign Medal. \nPERSONAL:\nHenry married his wife\, Mabel Francis Linehan in 1927 in Cambridge\, Massachusetts\, and together they had children: William\, Joseph\, Frank and Paul. Sadly in 1948\, Mabel passed away. On January 8\, 1949\, Henry married Julia Raleigh in Troy\, New York and together they had a son\, Henry. \nServing in the military runs in the family. While Henry was serving his country during World War II\, his son\, William\, was also serving in the U.S. Army. Eventually\, his other sons also went on to serve along with several of his grandsons. \nWORK EXPERIENCE:\nHenry was a hardworking man who worked various jobs throughout his life to make sure that his family was always taken care of. He worked for A. Lavelle Construction Company as an iron worker\, J.P. Squires Company where he worked as a smoker/cooker at the meat packing and processing facility\, Bethlehem Steel Company where he worked as a machinist and operator\, and built combat vessels for the Navy\, and Ludlow Valve Company where he was the chief engineer at the time of his sudden passing. \nCOMMUNITY ACTIVITIES/ORGANIZATIONS:\nHenry was a proud member of the Trojan Post VFW\, the Emerald Club and the National Association of Power Engineers. During his free time\, he enjoyed the outdoors\, especially the water\, coaching kids and attending veteran functions. \nSadly\, on June 27\, 1950 Henry passed away after becoming ill while umpiring a baseball game at Geer Field. \n  \n 
URL:https://www.rensselaercounty.org/event/december-2022-honor-a-deceased-veteran/
CATEGORIES:Honor a Veteran
END:VEVENT
BEGIN:VEVENT
DTSTART;TZID=UTC:20221213T180000
DTEND;TZID=UTC:20221213T200000
DTSTAMP:20260420T153930
CREATED:20220329T190746Z
LAST-MODIFIED:20230109T170321Z
UID:2431-1670954400-1670961600@www.rensselaercounty.org
SUMMARY:Regular Meeting December 2022
DESCRIPTION:Meeting Packet 12-13-22 \nSpecial Rules Packet \nCertified Packet 12-13-22 \nMeeting will be held in the Legislative Chambers located at 1600 Seventh Avenue\, Troy\, NY. \nFor more information on the meeting\, please contact the office at 518-270-2880. \n  \n  \n  \n  \n  \n 
URL:https://www.rensselaercounty.org/event/regular-meeting-december-2022/
END:VEVENT
BEGIN:VEVENT
DTSTART;TZID=America/New_York:20221220T180000
DTEND;TZID=America/New_York:20221220T190000
DTSTAMP:20260420T153930
CREATED:20220810T151815Z
LAST-MODIFIED:20230109T171024Z
UID:3056-1671559200-1671562800@www.rensselaercounty.org
SUMMARY:Special Meeting
DESCRIPTION:Clean Up Meeting Packet 12-20-22 \nCertified Packet 12-20-2022 \nSPECIAL MEETING NOTICE\, pursuant to Rule No. 1C of the Rules of the Rensselaer County Legislature and in accordance with the NYS Open Meeting Law\, Section 104\, a special meeting of the Rensselaer County Legislature will be held on: Tuesday\, December 20\, 2022 at 6:00 p.m.  The purpose of this meeting is to act upon Legislation filed in accordance with Rule 16C of the Rules of the Rensselaer County Legislature in the Legislative Chambers of the Rensselaer County Office Building\, 1600 7th Avenue\, Troy\, New York. \n  \nJessica L. Charette\, Clerk\nRensselaer County Legislature
URL:https://www.rensselaercounty.org/event/special-meeting-6/
END:VEVENT
BEGIN:VEVENT
DTSTART;VALUE=DATE:20221226
DTEND;VALUE=DATE:20221227
DTSTAMP:20260420T153930
CREATED:20211210T231642Z
LAST-MODIFIED:20220810T151849Z
UID:2211-1672012800-1672099199@www.rensselaercounty.org
SUMMARY:Office closed
DESCRIPTION:Office Closed
URL:https://www.rensselaercounty.org/event/office-closed-29/
END:VEVENT
END:VCALENDAR