BEGIN:VCALENDAR
VERSION:2.0
PRODID:-//Rensselaer County Legislature - ECPv6.15.17.1//NONSGML v1.0//EN
CALSCALE:GREGORIAN
METHOD:PUBLISH
X-WR-CALNAME:Rensselaer County Legislature
X-ORIGINAL-URL:https://www.rensselaercounty.org
X-WR-CALDESC:Events for Rensselaer County Legislature
REFRESH-INTERVAL;VALUE=DURATION:PT1H
X-Robots-Tag:noindex
X-PUBLISHED-TTL:PT1H
BEGIN:VTIMEZONE
TZID:America/New_York
BEGIN:DAYLIGHT
TZOFFSETFROM:-0500
TZOFFSETTO:-0400
TZNAME:EDT
DTSTART:20210314T070000
END:DAYLIGHT
BEGIN:STANDARD
TZOFFSETFROM:-0400
TZOFFSETTO:-0500
TZNAME:EST
DTSTART:20211107T060000
END:STANDARD
BEGIN:DAYLIGHT
TZOFFSETFROM:-0500
TZOFFSETTO:-0400
TZNAME:EDT
DTSTART:20220313T070000
END:DAYLIGHT
BEGIN:STANDARD
TZOFFSETFROM:-0400
TZOFFSETTO:-0500
TZNAME:EST
DTSTART:20221106T060000
END:STANDARD
BEGIN:DAYLIGHT
TZOFFSETFROM:-0500
TZOFFSETTO:-0400
TZNAME:EDT
DTSTART:20230312T070000
END:DAYLIGHT
BEGIN:STANDARD
TZOFFSETFROM:-0400
TZOFFSETTO:-0500
TZNAME:EST
DTSTART:20231105T060000
END:STANDARD
END:VTIMEZONE
BEGIN:VTIMEZONE
TZID:UTC
BEGIN:STANDARD
TZOFFSETFROM:+0000
TZOFFSETTO:+0000
TZNAME:UTC
DTSTART:20210101T000000
END:STANDARD
END:VTIMEZONE
BEGIN:VEVENT
DTSTART;TZID=America/New_York:20221101T080000
DTEND;TZID=America/New_York:20221102T170000
DTSTAMP:20260420T171706
CREATED:20220810T144131Z
LAST-MODIFIED:20220810T144131Z
UID:3043-1667289600-1667408400@www.rensselaercounty.org
SUMMARY:Committee Meetings
DESCRIPTION:Committee schedules and agendas can be found on the Committee page. \n 
URL:https://www.rensselaercounty.org/event/committee-meetings-4/
END:VEVENT
BEGIN:VEVENT
DTSTART;VALUE=DATE:20221108
DTEND;VALUE=DATE:20221109
DTSTAMP:20260420T171706
CREATED:20211210T231352Z
LAST-MODIFIED:20220329T190420Z
UID:2199-1667865600-1667951999@www.rensselaercounty.org
SUMMARY:Office closed
DESCRIPTION:Office Closed
URL:https://www.rensselaercounty.org/event/office-closed-25/
END:VEVENT
BEGIN:VEVENT
DTSTART;TZID=UTC:20221109T180000
DTEND;TZID=UTC:20221109T200000
DTSTAMP:20260420T171706
CREATED:20220329T190636Z
LAST-MODIFIED:20221104T195245Z
UID:2429-1668016800-1668024000@www.rensselaercounty.org
SUMMARY:Regular Meeting November 2022
DESCRIPTION:  \nMeeting Packet 11-9-22 \n**Please note that the November Legislative Meeting will be held\, Wednesday\, November 9\, 2022. \nMeeting will be held in the Legislative Chambers located at 1600 Seventh Avenue\, Troy\, NY. \nFor more information on the meeting\, please contact the office at 518-270-2880. \n  \n  \n  \n  \n  \n 
URL:https://www.rensselaercounty.org/event/regular-meeting-november-2022/
END:VEVENT
BEGIN:VEVENT
DTSTART;TZID=UTC:20221109T180000
DTEND;TZID=UTC:20221109T200000
DTSTAMP:20260420T171706
CREATED:20221114T134938Z
LAST-MODIFIED:20221116T181155Z
UID:3346-1668016800-1668024000@www.rensselaercounty.org
SUMMARY:Regular Meeting November 2022
DESCRIPTION:Certified Packet 11-9-22 \nMeeting Packet 11-9-22 \n**Please note that the November Legislative Meeting will be held\, Wednesday\, November 9\, 2022. \nMeeting will be held in the Legislative Chambers located at 1600 Seventh Avenue\, Troy\, NY. \nFor more information on the meeting\, please contact the office at 518-270-2880. \n  \n  \n  \n  \n  \n 
URL:https://www.rensselaercounty.org/event/regular-meeting-november-2022-2/
END:VEVENT
BEGIN:VEVENT
DTSTART;TZID=America/New_York:20221110T173000
DTEND;TZID=America/New_York:20221110T183000
DTSTAMP:20260420T171706
CREATED:20220810T144559Z
LAST-MODIFIED:20220810T144823Z
UID:3045-1668101400-1668105000@www.rensselaercounty.org
SUMMARY:Public Hearing
DESCRIPTION:Public Hearing to review 2023 Tentative Budget \nNOTICE OF PUBLIC HEARING \nPLEASE TAKE NOTICE\, That pursuant to Section 5.03 B (3) of the Rensselaer County Charter\, a Public Hearing will be held in the Chambers of the Rensselaer County Legislature at the County Office Building\, 1600 7th Avenue\, Troy\, New York on Tuesday\, November 10\, 2022\, at 5:30 p.m. regarding the 2023 Rensselaer County Tentative Budget.
URL:https://www.rensselaercounty.org/event/public-hearing/
END:VEVENT
BEGIN:VEVENT
DTSTART;VALUE=DATE:20221111
DTEND;VALUE=DATE:20221112
DTSTAMP:20260420T171706
CREATED:20211210T231443Z
LAST-MODIFIED:20220810T144218Z
UID:2206-1668124800-1668211199@www.rensselaercounty.org
SUMMARY:Office closed
DESCRIPTION:Office Closed
URL:https://www.rensselaercounty.org/event/office-closed-26/
END:VEVENT
BEGIN:VEVENT
DTSTART;TZID=UTC:20221114T083000
DTEND;TZID=UTC:20221114T090000
DTSTAMP:20260420T171706
CREATED:20211210T224822Z
LAST-MODIFIED:20221028T193918Z
UID:2185-1668414600-1668416400@www.rensselaercounty.org
SUMMARY:November 2022 Honor A Deceased Veteran- **Canceled***
DESCRIPTION:Honor A Deceased Veteran Ceremony will be held in the Legislative Chambers of the Rensselaer County Legislature. \nFor questions or application information\, please contact the Legislature at 518-270-2880. \n 
URL:https://www.rensselaercounty.org/event/november-2022-honor-a-deceased-veteran/
CATEGORIES:Honor a Veteran
END:VEVENT
BEGIN:VEVENT
DTSTART;TZID=America/New_York:20221122T173000
DTEND;TZID=America/New_York:20221122T183000
DTSTAMP:20260420T171706
CREATED:20220810T145253Z
LAST-MODIFIED:20220810T145253Z
UID:3048-1669138200-1669141800@www.rensselaercounty.org
SUMMARY:Public Hearing
DESCRIPTION:Public Hearing to review 2023 Tentative Budget \nNOTICE OF PUBLIC HEARING \n PLEASE TAKE NOTICE\, That pursuant to Section 5.03 B (3) of the Rensselaer County Charter\, a Public Hearing will be held in the Chambers of the Rensselaer County Legislature at the County Office Building\, 1600 7th Avenue\, Troy\, New York on Tuesday\, November 22\, 2022\, at 5:30 p.m. regarding the changes proposed by the Finance Committee of the Rensselaer County Legislature to the 2023 Rensselaer County Tentative Budget.
URL:https://www.rensselaercounty.org/event/public-hearing-2/
END:VEVENT
BEGIN:VEVENT
DTSTART;VALUE=DATE:20221124
DTEND;VALUE=DATE:20221126
DTSTAMP:20260420T171706
CREATED:20211210T231518Z
LAST-MODIFIED:20211210T231518Z
UID:2205-1669248000-1669420799@www.rensselaercounty.org
SUMMARY:Office closed
DESCRIPTION:Office Closed
URL:https://www.rensselaercounty.org/event/office-closed-27/
END:VEVENT
BEGIN:VEVENT
DTSTART;TZID=America/New_York:20221129T180000
DTEND;TZID=America/New_York:20221129T190000
DTSTAMP:20260420T171706
CREATED:20220810T150717Z
LAST-MODIFIED:20221201T165404Z
UID:3050-1669744800-1669748400@www.rensselaercounty.org
SUMMARY:Special Meeting to Adopt the 2023 Budget
DESCRIPTION:Certified Packet \nBudget Meeting Agenda \n  \nSPECIAL MEETING NOTICE\, pursuant to Rule No. 1C of the Rules of the Rensselaer County Legislature and in accordance with the NYS Open Meeting Law\, Section 104\, a special meeting of the Rensselaer County Legislature will be held on: Tuesday\, November 29\, 2022 at 6:00 p.m.  The purpose of this meeting is to act upon the proposed 2023 Rensselaer County Budget and any other legislation filed in accordance with Rule 16C of the Rules of the Rensselaer County\,  in the Legislative Chambers of the Rensselaer County Office Building\, 1600 7th Avenue\, Troy\, New York. \n  \nJessica L. Charette\, Clerk\nRensselaer County Legislature
URL:https://www.rensselaercounty.org/event/special-meeting-to-adopt-the-2023-budget/
END:VEVENT
END:VCALENDAR