BEGIN:VCALENDAR
VERSION:2.0
PRODID:-//Rensselaer County Legislature - ECPv6.15.17.1//NONSGML v1.0//EN
CALSCALE:GREGORIAN
METHOD:PUBLISH
X-WR-CALNAME:Rensselaer County Legislature
X-ORIGINAL-URL:https://www.rensselaercounty.org
X-WR-CALDESC:Events for Rensselaer County Legislature
REFRESH-INTERVAL;VALUE=DURATION:PT1H
X-Robots-Tag:noindex
X-PUBLISHED-TTL:PT1H
BEGIN:VTIMEZONE
TZID:UTC
BEGIN:STANDARD
TZOFFSETFROM:+0000
TZOFFSETTO:+0000
TZNAME:UTC
DTSTART:20210101T000000
END:STANDARD
END:VTIMEZONE
BEGIN:VEVENT
DTSTART;VALUE=DATE:20220704
DTEND;VALUE=DATE:20220706
DTSTAMP:20260421T001712
CREATED:20211210T231146Z
LAST-MODIFIED:20211210T231146Z
UID:2195-1656892800-1657065599@www.rensselaercounty.org
SUMMARY:Office closed
DESCRIPTION:Office Closed
URL:https://www.rensselaercounty.org/event/office-closed-22/
END:VEVENT
BEGIN:VEVENT
DTSTART;TZID=UTC:20220711T080000
DTEND;TZID=UTC:20220711T090000
DTSTAMP:20260421T001712
CREATED:20211210T224438Z
LAST-MODIFIED:20220708T134654Z
UID:2177-1657526400-1657530000@www.rensselaercounty.org
SUMMARY:July 2022 Honor A Deceased Veteran- Robert D. Smith
DESCRIPTION:ROBERT D. SMITH\n1926-1991 \nFAMILY HISTORY:\nRobert D. Smith was born on April 14\, 1926 in Colonie\, New York to Carrie May Rockenstyre and William H. Smith. He was the brother of William Jr.\, Elizabeth\, Agnes\, Francis and Richard. \nRobert grew up in Colonie\, and then later resided in Lansingburgh\, New York. \nEDUCATION: \nHISTORY:\nOn March 20\, 1944\, Robert enlisted in the United States Navy in Albany\, New York. Robert was a Navy fireman first class during World War II. He served in the Pacific Theater and in the Battle of Leyte Gulf during the liberation of the Philippines. For his service\, Robert was awarded the American Theatre Medal\, Victory Medal\, Asiatic-Pacific Theatre Medal with 6 stars and the Philippine Liberation Medal with 1 star. Robert separated from the Navy on February 27\, 1946. \nPERSONAL:\nOn June 5\, 1943\, Robert married Shirley Dissosway Smith. Together had five loving children: Robert\, James\, Ann\, Donald and Pamela\, and grandchildren; Daniel\, Robert\, Erin\, Chad\, Jared\, Victoria\, Richard\, Benjamin\, Erica\, Sarah\, Ellen and Andrea. \nWORK EXPERIENCE:\nRobert retired from Schaefer Brewing Company in Albany\, New York where he was a truck driver\, and worked 8 years as a machine repairman for Troy-Bilt. \nCOMMUNITY ACTIVITIES/ORGANIZATIONS:\nDuring his free time\, Robert enjoyed hunting and fishing. He was a member of Teamsters Local 294\, Brewery Workers 1015\, the National Tin Can Sailors Association and was a proud member of VFW Post 469. \nSadly\, on December 3\, 1991 Robert passed away. \n  \nHonor A Deceased Veteran Ceremony will be held in the Legislative Chambers of the Rensselaer County Legislature. \nFor questions or application information\, please contact the Legislature at 518-270-2880. \n 
URL:https://www.rensselaercounty.org/event/july-2022-honor-a-deceased-veteran/
CATEGORIES:Honor a Veteran
END:VEVENT
BEGIN:VEVENT
DTSTART;TZID=UTC:20220712T173000
DTEND;TZID=UTC:20220712T180000
DTSTAMP:20260421T001712
CREATED:20220629T181514Z
LAST-MODIFIED:20220629T181514Z
UID:2424-1657647000-1657648800@www.rensselaercounty.org
SUMMARY:Public Hearing to review the Tentative Budget of Hudson Valley Community College for the Fiscal Year beginning September 1\, 2022\, and ending August 31\, 2023
DESCRIPTION:NOTICE OF PUBLIC HEARING \n PLEASE TAKE NOTICE\, That in accordance with Section 6304\, Subdivision 5-a of the Education Law of the State of New York and Section 359 of the County Law of the State of New York\, a Public Hearing will be held in the Chambers of the Rensselaer County Legislature at the County Office Building\, Troy\, New York on Tuesday\, July 12\, 2022\, at 5:30 p.m. to review the Tentative Budget of Hudson Valley Community College for the Fiscal Year beginning September 1\, 2022\, and ending August 31\, 2023 \nCOPIES OF THIS TENTATIVE BUDGET ARE ON FILE IN THE OFFICE OF THE CLERK OF THE LEGISLATURE AND ARE AVAILABLE FOR PUBLIC REVIEW DURING OFFICE HOURS\, 9:00 A.M. – 4:00 P.M.\, MONDAY THROUGH FRIDAY \n  \n  \n  \n  \n  \n 
URL:https://www.rensselaercounty.org/event/public-hearing-to-review-the-tentative-budget-of-hudson-valley-community-college-for-the-fiscal-year-beginning-september-1-2022-and-ending-august-31-2023/
END:VEVENT
BEGIN:VEVENT
DTSTART;TZID=UTC:20220712T180000
DTEND;TZID=UTC:20220712T200000
DTSTAMP:20260421T001712
CREATED:20220315T224724Z
LAST-MODIFIED:20220718T145824Z
UID:2418-1657648800-1657656000@www.rensselaercounty.org
SUMMARY:Regular Meeting July 2022
DESCRIPTION:Certified Packet 7-12-22 \nMeeting Packet 7-12-22 \nMeeting will be held in the Legislative Chambers located at 1600 Seventh Avenue\, Troy\, NY. \nFor more information on the meeting\, please contact the office at 518-270-2880. \n  \n  \n  \n  \n  \n 
URL:https://www.rensselaercounty.org/event/regular-meeting-july-2022-2/
END:VEVENT
END:VCALENDAR