BEGIN:VCALENDAR
VERSION:2.0
PRODID:-//Rensselaer County Legislature - ECPv6.15.17.1//NONSGML v1.0//EN
CALSCALE:GREGORIAN
METHOD:PUBLISH
X-ORIGINAL-URL:https://www.rensselaercounty.org
X-WR-CALDESC:Events for Rensselaer County Legislature
REFRESH-INTERVAL;VALUE=DURATION:PT1H
X-Robots-Tag:noindex
X-PUBLISHED-TTL:PT1H
BEGIN:VTIMEZONE
TZID:UTC
BEGIN:STANDARD
TZOFFSETFROM:+0000
TZOFFSETTO:+0000
TZNAME:UTC
DTSTART:20200101T000000
END:STANDARD
END:VTIMEZONE
BEGIN:VEVENT
DTSTART;TZID=UTC:20211213T083000
DTEND;TZID=UTC:20211213T090000
DTSTAMP:20260421T113632
CREATED:20210107T185932Z
LAST-MODIFIED:20220111T201314Z
UID:1903-1639384200-1639386000@www.rensselaercounty.org
SUMMARY:Thomas S. Ostrowski December 2021 Honor A Deceased Veteran
DESCRIPTION:THOMAS STANLEY OSTROWSKI\n1943-2018 \n \nFAMILY HISTORY:\nThomas “Tom” Stanley Ostrowski was born on April\, 7 1943 in Brooklyn\, New York to the late Frances Ostarch Ostrowski and Bruno Ostrowski\, and was the brother of the late Barbara Ostarch Rothrock. \nEDUCATION:\nTom was raised in Catskill\, New York\, where he graduated from St. Patrick’s Elementary and High School before moving to Troy\, New York. He also went on to graduate from Hudson Valley Community College and the College of St. Rose\, earning a degree in business and computer. \nHISTORY:\nTom enlisted in the United States Navy on October 11\, 1966 in Buffalo\, New York\, serving with the rank of petty officer second class as a draftsman. For his service\, Tom was awarded the National Defense Service Medal and the Navy Unit Commendation Ribbon. He was honorably discharged from the Navy on July 1\, 1970. \nPERSONAL:\nOn May 24\, 1969\, Tom married his wife\, Susan Ann Mangione at Sacred Heart Church in Troy\, New York. He is the beloved father of Kristen Ostrowski Caird\, Stephanie Ostrowski and Thomas J. Ostrowski\, grandfather to Abbilyn\, Natalie\, Emily and Teegen and also survived by several nieces\, nephews\, cousins and friends. \nWORK EXPERIENCE:\nTom was employed by General Electric in the large stream turbine division as an engineer draftsman for 32 years. \nCOMMUNITY ACTIVITIES/ORGANIZATIONS:\nTom was an active member of the community. He was a member of Trout Unlimited Home Waters Chapter\, Early Engine Club of Schaghticoke\, Trout Unlimited Fly Fishing Instructor\, and was a Sacred Heart communicant\, usher\, money counter and helped with bingo. Tom was an avid fisherman\, fly tyer\, photographer\, woodworker\, bird house maker\, and the greatest grandfather. \nSadly\, on October 1\, 2018 Tom passed away. \nHonor A Deceased Veteran Ceremony will be held in the Legislative Chambers of the Rensselaer County Legislature. \nFor questions or application information\, please contact the Legislature at 518-270-2880. \n 
URL:https://www.rensselaercounty.org/event/december-2021-honor-a-deceased-veteran/
CATEGORIES:Honor a Veteran
END:VEVENT
BEGIN:VEVENT
DTSTART;TZID=UTC:20211214T180000
DTEND;TZID=UTC:20211214T200000
DTSTAMP:20260421T113632
CREATED:20210107T191602Z
LAST-MODIFIED:20220111T191252Z
UID:1923-1639504800-1639512000@www.rensselaercounty.org
SUMMARY:Regular Meeting December 14\, 2021
DESCRIPTION:Certified Packet 12-14-21 \nMeeting will be held in the Legislative Chambers located at 1600 Seventh Avenue\, Troy\, NY.   For more information on the meeting\, please contact the office at 518-270-2880. \n  \n  \n  \n  \n  \n 
URL:https://www.rensselaercounty.org/event/regular-meeting-december-12-2021/
END:VEVENT
BEGIN:VEVENT
DTSTART;TZID=UTC:20211221T180000
DTEND;TZID=UTC:20211221T200000
DTSTAMP:20260421T113632
CREATED:20211105T193310Z
LAST-MODIFIED:20220111T201511Z
UID:2141-1640109600-1640116800@www.rensselaercounty.org
SUMMARY:Special Meeting
DESCRIPTION:SPECIAL MEETING NOTICE\, pursuant to Rule No. 1C of the Rules of the Rensselaer County Legislature and in accordance with the NYS Open Meeting Law\, Section 104\, a special meeting of the Rensselaer County Legislature will be held on: Tuesday\, December 21\, 2021 at 6:00 p.m.  The purpose of this meeting is to act upon Legislation filed in accordance with Rule 16C of the Rules of the Rensselaer County Legislature in the Legislative Chambers of the Rensselaer County Office Building\, 1600 7th Avenue\, Troy\, New York. \nJessica L. Charette\, Clerk\nRensselaer County Legislature \nCertified Packet 12-21-21 \nMeeting will be held in the Legislative Chambers located at 1600 Seventh Avenue\, Troy\, NY.   For more information on the meeting\, please contact the office at 518-270-2880. \n  \n  \n  \n  \n  \n 
URL:https://www.rensselaercounty.org/event/special-meeting-12-21-2021/
END:VEVENT
BEGIN:VEVENT
DTSTART;VALUE=DATE:20211231
DTEND;VALUE=DATE:20220101
DTSTAMP:20260421T113632
CREATED:20210107T191715Z
LAST-MODIFIED:20211228T233254Z
UID:1941-1640908800-1640995199@www.rensselaercounty.org
SUMMARY:Office closed
DESCRIPTION:Office Closed- New Year Holiday Observed
URL:https://www.rensselaercounty.org/event/office-closed-17/
END:VEVENT
END:VCALENDAR