BEGIN:VCALENDAR
VERSION:2.0
PRODID:-//Rensselaer County Legislature - ECPv6.15.17.1//NONSGML v1.0//EN
CALSCALE:GREGORIAN
METHOD:PUBLISH
X-WR-CALNAME:Rensselaer County Legislature
X-ORIGINAL-URL:https://www.rensselaercounty.org
X-WR-CALDESC:Events for Rensselaer County Legislature
REFRESH-INTERVAL;VALUE=DURATION:PT1H
X-Robots-Tag:noindex
X-PUBLISHED-TTL:PT1H
BEGIN:VTIMEZONE
TZID:UTC
BEGIN:STANDARD
TZOFFSETFROM:+0000
TZOFFSETTO:+0000
TZNAME:UTC
DTSTART:20250101T000000
END:STANDARD
END:VTIMEZONE
BEGIN:VEVENT
DTSTART;VALUE=DATE:20260101
DTEND;VALUE=DATE:20260102
DTSTAMP:20260421T210919
CREATED:20251120T142233Z
LAST-MODIFIED:20251120T142233Z
UID:6902-1767225600-1767311999@www.rensselaercounty.org
SUMMARY:New Years Day - Office Closed
DESCRIPTION:Office Closed
URL:https://www.rensselaercounty.org/event/new-years-day-office-closed-2/
END:VEVENT
BEGIN:VEVENT
DTSTART;VALUE=DATE:20260101
DTEND;VALUE=DATE:20260103
DTSTAMP:20260421T210919
CREATED:20251020T183238Z
LAST-MODIFIED:20251020T183238Z
UID:6833-1767225600-1767398399@www.rensselaercounty.org
SUMMARY:New Years Day - Office Closed
DESCRIPTION:Office Closed
URL:https://www.rensselaercounty.org/event/new-years-day-office-closed/
END:VEVENT
BEGIN:VEVENT
DTSTART;TZID=UTC:20260107T180000
DTEND;TZID=UTC:20260107T200000
DTSTAMP:20260421T210919
CREATED:20251007T154619Z
LAST-MODIFIED:20260122T172706Z
UID:6799-1767808800-1767816000@www.rensselaercounty.org
SUMMARY:Special Meeting - Organization
DESCRIPTION:Meeting Packet 1-7-26\nCertified Packet \nSPECIAL MEETING NOTICE\, pursuant to Rule No. 1C of the Rules of the Rensselaer County Legislature and in accordance with the NYS Open Meeting Law\, Section 104\, a special meeting of the Rensselaer County Legislature will be held on: Wednesday\, January 7\, 2026 at 6:00 p.m.   \n The purpose of this meeting is to conduct the Organization for a Legislative Term pursuant to Section 2.05 of the Rensselaer County Charter and applicable law(s)\, and any other legislation filed in accordance with Rule 16C of the Rules of the Rensselaer County\, in the Legislative Chambers of the Rensselaer County Office Building\, 99 Troy Road\, East Greenbush\, New York. \nJessica L. Charette\, Clerk\nRensselaer County Legislature \n  \n  \n  \n  \n  \n  \n 
URL:https://www.rensselaercounty.org/event/special-meeting-organization/
END:VEVENT
BEGIN:VEVENT
DTSTART;TZID=UTC:20260112T083000
DTEND;TZID=UTC:20260112T090000
DTSTAMP:20260421T210919
CREATED:20251223T175112Z
LAST-MODIFIED:20260122T170628Z
UID:7079-1768206600-1768208400@www.rensselaercounty.org
SUMMARY:January 2026 Honor A Deceased Veteran - Angelo Thomas DeGenero
DESCRIPTION:  \nAngelo Thomas DeGenero\n1931 – 2025 \nFAMILY HISTORY:\nAngelo Thomas DeGenero was born on November 17\, 1931 in Troy\, New York. He was the son of the late Sergio and Rosaria (LaGrasta) DeGenero\, and brother to Ignatius\, Carrado\, Joseph\, Lucia\, Martha\, Rosaria\, Angeline and Anna \nEDUCATION:\nAngelo grew up in Troy\, and received his education through the Troy Central School District \nHISTORY:\nAfter graduating from Troy High School\, Angelo proudly enlisted in the United States Navy on April 7\, 1952 in Albany\, New York\, where he was assigned to the U.S.S Markav (AD-21)\, was a Hamul-class destroyer tender named for Markab\, the third-brightest star in the constellation Pegasus where he carried out his duties as Produce Man.  Angelo later went on to be awarded the Good Conduct Medal and the National Defense Service Medal \nPERSONAL:\nAngelo married his wife\, Dolores (Dobert) DeGenero on June 11\, 1960 at the St. Jude Apostle Church in Wynantskill\, New York.  Together they had five children: Dolores\, Maureen\, Jeanne\, Jacqueline and David; and ten grandchildren: Jaime\, Jessica\, Jeremy\, Patrick\, Kathryn\, Christopher\, Kevin\, Theodore\, Brian and David: and nine great grandchildren \nWORK EXPERIENCE:\nAfter his Honorable Discharge from the United States Navy on April 6\, 1956\, Angelo was later employed at the A&P supermarket in Wynantskill\, New York for 20 years and later as the Produce Manager and store clerk for Price Chopper for 20 years \nCOMMUNITY ACTIVITIES/ORGANIZATIONS:\nAngelo loved spending time with his family.  He shared a special bond with his children and grandchildren.  He enjoyed his bowling leagues at Hi-Way Recreation in Wynantskill\, and more recently\, at Hilltop Bowl in Speigletown.  He was an avid golfer at Burden Lake Country Club\, and often looked forward to Tuesday night family scrambles that were held there. \nAngelo also enjoyed traveling to Florida and Las Vegas.  He cherished his Wednesday family pizza nights\, Sunday morning breakfasts\, and special moments with his great grandchildren.  Angelo created a strong family legacy that will live on in all of them \nSadly\, on March 31\, 2025\, Angelo passed away and was laid to rest at the St. Mary’s Cemetery in Troy\, New York
URL:https://www.rensselaercounty.org/event/january-2026-honor-a-deceased-veteran-angelo-thomas-degenero/
CATEGORIES:Honor a Veteran
END:VEVENT
BEGIN:VEVENT
DTSTART;TZID=UTC:20260113T180000
DTEND;TZID=UTC:20260113T200000
DTSTAMP:20260421T210919
CREATED:20251120T151016Z
LAST-MODIFIED:20260130T204021Z
UID:6928-1768327200-1768334400@www.rensselaercounty.org
SUMMARY:Regular Meeting January 2026
DESCRIPTION:Meeting Packet 1-13-26\nSpecial Rules Packet 1-13-26 \nCertified Packet 1-13-2026 \nLegislative Meeting will be held in the Legislative Chambers located at 99 Troy Road\, East Greenbush\, NY 12061 . \nFor more information on the meeting\, please contact the office at 518-270-2880. \n  \n  \n  \n  \n  \n 
URL:https://www.rensselaercounty.org/event/regular-meeting-january-2026/
END:VEVENT
BEGIN:VEVENT
DTSTART;VALUE=DATE:20260119
DTEND;VALUE=DATE:20260120
DTSTAMP:20260421T210919
CREATED:20251120T142403Z
LAST-MODIFIED:20251120T142418Z
UID:6904-1768780800-1768867199@www.rensselaercounty.org
SUMMARY:Martin Luther King Day - Office Closed
DESCRIPTION:Office Closed
URL:https://www.rensselaercounty.org/event/martin-luther-king-day-office-closed-2/
END:VEVENT
BEGIN:VEVENT
DTSTART;TZID=UTC:20260209T083000
DTEND;TZID=UTC:20260209T090000
DTSTAMP:20260421T210919
CREATED:20251223T175305Z
LAST-MODIFIED:20260217T152008Z
UID:7081-1770625800-1770627600@www.rensselaercounty.org
SUMMARY:February 2026 Honor A Deceased Veteran- Neil M. Manchester
DESCRIPTION:HONOR-A-DECEASED-VETERAN \nFebruary 2026 \nNeil M. Manchester\n1927 – 2011 \nFAMILY HISTORY:\nNeil M. Manchester was born on July 10\, 1927 in Hoosick Falls\, New York. He was the son of the late Martin and Millicent (Vincent) Manchester\, and brother to Edwin\, Hugh\, Lynn and Lynda \nEDUCATION/HISTORY:\nWhile attending high school\, Neil proudly enlisted in the United States Navy on July 31\, 1944 serving with the Seabees at the rank of Machinist Mate 3rd class until 1946.  Neil was awarded the American theatre medal\, Victory medal Asiatic-Pacific medal\, and Navy Unit Commendation \nPERSONAL:\nNeil married his wife\, Lois (Case) Manchester on February 11\, 1951 in Hoosick Falls\, New York.  Together they had three children: Amy\, Beth\, (the late) Gregory; and two grandchildren: (the late) Darel and Corey: and one great grandchild; Allie \nWORK EXPERIENCE:\nAfter his Honorable Discharge from the United States Navy on June 2\, 1944.  Neil went on to carry out his promise to his mother by going back to high school and was a member of the first graduating class of 1947 of the “new” Berlin High School. \nAfter graduation Neil was employed as a Wholesale Florist for Seagrott’s Roses for 25 years.  He then ran the North Petersburgh Country Store for 15 years and retired from the Troy Housing Authority \nCOMMUNITY ACTIVITIES/ORGANIZATIONS:\nNeil was a grand master of the Petersburg F & AM\, a member of the Taconic Valley American Legion Post #937\, a member of the Petersburg Fire Department\, Petersburg Baptist Church\, served as town justice from\, Chairman of the Board of Assessors\, Deputy Town Supervisor\, Town Supervisor\, Chairman Civic Council\, and a former Town Highway Supervisor. \nHe was co-founder with his cousin Roger on the Petersburgh Veterans Honor Roll Monument dedicated in November of 2007.  Up to the time of his passing\, Neil served as Town Veteran’s Service Officer.  Neil also loved to hunt and fish \nSadly\, on December 4\, 2011\, Neil passed away and was laid to rest at the Meadow Lawn Cemetery\, Petersburgh\, New York \n 
URL:https://www.rensselaercounty.org/event/february-2026-honor-a-deceased-veteran/
CATEGORIES:Honor a Veteran
END:VEVENT
BEGIN:VEVENT
DTSTART;TZID=UTC:20260210T180000
DTEND;TZID=UTC:20260210T200000
DTSTAMP:20260421T210919
CREATED:20251120T151518Z
LAST-MODIFIED:20260217T150135Z
UID:6932-1770746400-1770753600@www.rensselaercounty.org
SUMMARY:Regular Meeting February 2026
DESCRIPTION:Certified Packet 2-10-26\nMeeting Packet 2-10-26 \nSpecial Rules Packet \nLegislative Meeting will be held in the Legislative Chambers located at 99 Troy Road\, East Greenbush\, NY 12061 . \nFor more information on the meeting\, please contact the office at 518-270-2880. \n  \n  \n  \n  \n  \n 
URL:https://www.rensselaercounty.org/event/regular-meeting-february-2026/
END:VEVENT
BEGIN:VEVENT
DTSTART;VALUE=DATE:20260216
DTEND;VALUE=DATE:20260217
DTSTAMP:20260421T210919
CREATED:20251120T142532Z
LAST-MODIFIED:20251120T142532Z
UID:6907-1771200000-1771286399@www.rensselaercounty.org
SUMMARY:President's Day - Office Closed
DESCRIPTION:Office Closed
URL:https://www.rensselaercounty.org/event/presidents-day-office-closed-3/
END:VEVENT
BEGIN:VEVENT
DTSTART;TZID=UTC:20260309T083000
DTEND;TZID=UTC:20260309T090000
DTSTAMP:20260421T210919
CREATED:20251223T175400Z
LAST-MODIFIED:20260311T170726Z
UID:7083-1773045000-1773046800@www.rensselaercounty.org
SUMMARY:March 2026 Honor A Deceased Veteran - William Charles Roy
DESCRIPTION:  \nHONOR-A-DECEASED-VETERAN \nMarch 2026\nWilliam Charles Roy\n1947 – 2025 \n \n  \nFAMILY HISTORY:\nWilliam Charles Roy was born on August 16\, 1947 in Cohoes\, New York.  He grew up in Waterford\, New York and later lived in Troy\, and Niskayuna\, New York.   He was the son of the late Charles and Eva (Gabriel) Roy\, and brother to Joseph and Mary Lou \nEDUCATION/HISTORY:\nAfter attending Shenendehowa Central School District\, William proudly enlisted in the United States Army on October 12\, 1966 during a pivotal moment in American History. He served with honor throughout the Vietnam era\, earning the National Defense Service Medal\, Vietnam Service Medal with three bronze service stars\, Republic of Vietnam Campaign Ribbon with device and the Sharpshooter Badge with Rifle Bar in recognition of his dedication and sacrifice \nPERSONAL:\nWilliam married his wife\, Dorthy (Butler) Roy on September 7\, 1966 in South Carolina.  Together they had three children: William\, Tracy\, and Nicole; and six grandchildren: Connor\, Devin\, Madison\, Mathew\, Cole and Sofie \nWORK EXPERIENCE:\nAfter his Honorable Discharge from the United States Army on October 10\, 1969\, William went to work for Freihofer’s Bakery in 1970\, from which he retired with pride in 1997 \nCOMMUNITY ACTIVITIES/ORGANIZATIONS:\nOutside of work\, William embraced life with enthusiasm and simple pleasures.  He was an avid golfer\, bowler\, and fisherman – pastimes that reflected his love of camaraderie\, the outdoors\, and friendly competition \nWilliam was also a proud member of the Ancient Order of Hibernians (AOH) and the Disabled American Veterans (DAV)\, organizations that aligned with his values of service\, heritage\, and community \nSadly\, on July 2\, 2025\, William passed away and was laid to rest at the Saratoga National Cemetery in Schuylerville\, New York
URL:https://www.rensselaercounty.org/event/march-2026-honor-a-deceased-veteran/
CATEGORIES:Honor a Veteran
END:VEVENT
BEGIN:VEVENT
DTSTART;TZID=UTC:20260310T180000
DTEND;TZID=UTC:20260310T200000
DTSTAMP:20260421T210919
CREATED:20251120T151634Z
LAST-MODIFIED:20260324T170348Z
UID:6934-1773165600-1773172800@www.rensselaercounty.org
SUMMARY:Regular Meeting March 2026
DESCRIPTION:Meeting Packet 3-10-26\nCertified Packet 3-10-26 \n \nLegislative Meeting will be held in the Legislative Chambers located at 99 Troy Road\, East Greenbush\, NY 12061 . \nFor more information on the meeting\, please contact the office at 518-270-2880. \n  \n  \n  \n  \n  \n 
URL:https://www.rensselaercounty.org/event/regular-meeting-march-2026/
END:VEVENT
BEGIN:VEVENT
DTSTART;TZID=UTC:20260326T180000
DTEND;TZID=UTC:20260326T200000
DTSTAMP:20260421T210919
CREATED:20260305T203250Z
LAST-MODIFIED:20260330T181612Z
UID:7394-1774548000-1774555200@www.rensselaercounty.org
SUMMARY:Public Hearing & Special Meeting - Charter Change
DESCRIPTION:Meeting Packet\nCertified Packet Sp Mtg 3-26-26 \nNOTICE OF PUBLIC HEARING \nPLEASE TAKE NOTICE\, That pursuant to Sections 2.07 and 20.06 of the Rensselaer County Charter\, a Public Hearing will be held in the chambers of the Rensselaer County Legislature at the County Office Building\, 99 Troy Road\, East Greenbush\, New York on Thursday\, March 26\, 2026 at 6:00 p.m. regarding a Local Law to Update the Charter of Rensselaer County.  Copies of the Local Law are available online at the County Legislative Website or during normal business hours from the Office of the Clerk of the Legislature. \n  \nSPECIAL MEETING NOTICE\, pursuant to Rule No. 1C of the Rules of the Rensselaer County Legislature and in accordance with the NYS Open Meeting Law\, Section 104\, a special meeting of the Rensselaer County Legislature will be held on: Thursday\, March 26\, 2026 at 6:00 p.m.   \n The purpose of this meeting is to act on legislation filed in accordance with Rule 16C of the Rules of the Rensselaer County\, in the Legislative Chambers of the Rensselaer County Office Building\, 99 Troy Road\, East Greenbush\, New York. \n  \nJessica L. Charette\, Clerk\nRensselaer County Legislature \n  \nLegislative Meeting will be held in the Legislative Chambers located at 99 Troy Road\, East Greenbush\, NY 12061 .\nFor more information on the meeting\, please contact the office at 518-270-2880. \n  \n  \n  \n  \n  \n 
URL:https://www.rensselaercounty.org/event/public-hearing-special-meeting-charter-change/
END:VEVENT
BEGIN:VEVENT
DTSTART;TZID=UTC:20260413T083000
DTEND;TZID=UTC:20260413T090000
DTSTAMP:20260421T210919
CREATED:20251223T175618Z
LAST-MODIFIED:20260415T144657Z
UID:7085-1776069000-1776070800@www.rensselaercounty.org
SUMMARY:April 2026 Honor A Deceased Veteran
DESCRIPTION:HONOR-A-DECEASED-VETERAN\nApril 2026 \n  \n  \n  \nJames R. Welcome\n1914 – 1968 \nFAMILY HISTORY:\nJames R. Welcome was born on April 18\, 1914 in Troy\, New York.  He grew up in Troy\, New York and later lived in Pico Rivera\, California.   He was the son of the late Joseph and Bridget (Daley) Welcome\, and brother to Charles\, Lena\, Ethel and Gertrude \nEDUCATION/HISTORY:\nAfter attending St. Jeans Baptiste School\, Troy New York\, James proudly enlisted in the United States Army on October 10\, 1940 until July 11\, 1945 and reenlisted on March 17\,1949 until his second separation from the United States Army on August 18\,1954 with the rank of Master Sergeant \nDuring an attack against the enemy\, the leader of the platoon of which Technical Sergeant Welcome was a member\, was seriously wounded and had to be evacuated.  Welcome immediately assumed command of the platoon.  Demonstrating outstanding courage\, repeatedly exposed himself to intense hostile fire to supervise the evacuation of the wounded.  Under his courageous leadership the platoon continued to press home its attack and seized the objective \nJames was awarded the Purple Heart for wounds received in action\, World War II Pacific Campaign Medal\, 2 Bronze Stars\, American Defense Medal\, Asiatic Pacific Campaign Medal\, Philippine Liberation Ribbon\, Glider Badge\, Combat infantryman Badge\, Commendation Ribbon and Good Conduct Medal \nPERSONAL:\nJames married his wife\, Theresa Eva (Herold) Welcome in the year 1931\, in Las Angeles where he was employed as a meat cutter and went on to have two children: Carl and Mary Joan \nCOMMUNITY ACTIVITIES/ORGANIZATIONS:\nSadly\, on June 2\, 1968\, James passed away and was laid to rest at the Resurrection Cemetery\, Montebello\, Los Angeles\, California \n 
URL:https://www.rensselaercounty.org/event/april-2026-honor-a-deceased-veteran/
CATEGORIES:Honor a Veteran
END:VEVENT
BEGIN:VEVENT
DTSTART;TZID=UTC:20260414T180000
DTEND;TZID=UTC:20260414T200000
DTSTAMP:20260421T210919
CREATED:20251120T151805Z
LAST-MODIFIED:20260420T144140Z
UID:6936-1776189600-1776196800@www.rensselaercounty.org
SUMMARY:Regular Meeting April 2026
DESCRIPTION:  \nMeeting Packet 4-14-26- \nSpecial Rules Packet \nLegislative Meeting will be held in the Legislative Chambers located at 99 Troy Road\, East Greenbush\, NY 12061 . \nFor more information on the meeting\, please contact the office at 518-270-2880. \n  \n  \n  \n  \n  \n 
URL:https://www.rensselaercounty.org/event/regular-meeting-april-2026/
END:VEVENT
BEGIN:VEVENT
DTSTART;TZID=UTC:20260511T083000
DTEND;TZID=UTC:20260511T090000
DTSTAMP:20260421T210919
CREATED:20251223T175807Z
LAST-MODIFIED:20251223T175807Z
UID:7089-1778488200-1778490000@www.rensselaercounty.org
SUMMARY:May 2026 Honor A Deceased Veteran
DESCRIPTION:  \n 
URL:https://www.rensselaercounty.org/event/may-2026-honor-a-deceased-veteran/
CATEGORIES:Honor a Veteran
END:VEVENT
BEGIN:VEVENT
DTSTART;TZID=UTC:20260512T180000
DTEND;TZID=UTC:20260512T200000
DTSTAMP:20260421T210919
CREATED:20251120T152512Z
LAST-MODIFIED:20251120T152542Z
UID:6938-1778608800-1778616000@www.rensselaercounty.org
SUMMARY:Regular Meeting May 2026
DESCRIPTION:  \nLegislative Meeting will be held in the Legislative Chambers located at 99 Troy Road\, East Greenbush\, NY 12061 . \nFor more information on the meeting\, please contact the office at 518-270-2880. \n  \n  \n  \n  \n  \n 
URL:https://www.rensselaercounty.org/event/regular-meeting-may-2026/
END:VEVENT
BEGIN:VEVENT
DTSTART;VALUE=DATE:20260525
DTEND;VALUE=DATE:20260526
DTSTAMP:20260421T210919
CREATED:20251120T142655Z
LAST-MODIFIED:20251120T142927Z
UID:6909-1779667200-1779753599@www.rensselaercounty.org
SUMMARY:Memorial Day - Office Closed
DESCRIPTION:Office Closed
URL:https://www.rensselaercounty.org/event/memorial-day-office-closed-2/
END:VEVENT
BEGIN:VEVENT
DTSTART;TZID=UTC:20260608T083000
DTEND;TZID=UTC:20260608T090000
DTSTAMP:20260421T210919
CREATED:20251223T175721Z
LAST-MODIFIED:20251223T175721Z
UID:7087-1780907400-1780909200@www.rensselaercounty.org
SUMMARY:June 2026 Honor A Deceased Veteran
DESCRIPTION:  \n 
URL:https://www.rensselaercounty.org/event/june-2026-honor-a-deceased-veteran/
CATEGORIES:Honor a Veteran
END:VEVENT
BEGIN:VEVENT
DTSTART;TZID=UTC:20260609T180000
DTEND;TZID=UTC:20260609T200000
DTSTAMP:20260421T210919
CREATED:20251120T153316Z
LAST-MODIFIED:20251120T153316Z
UID:6940-1781028000-1781035200@www.rensselaercounty.org
SUMMARY:Regular Meeting June 2026
DESCRIPTION:  \nLegislative Meeting will be held in the Legislative Chambers located at 99 Troy Road\, East Greenbush\, NY 12061 . \nFor more information on the meeting\, please contact the office at 518-270-2880. \n  \n  \n  \n  \n  \n 
URL:https://www.rensselaercounty.org/event/regular-meeting-june-2026/
END:VEVENT
BEGIN:VEVENT
DTSTART;VALUE=DATE:20260619
DTEND;VALUE=DATE:20260620
DTSTAMP:20260421T210919
CREATED:20251120T143133Z
LAST-MODIFIED:20251120T143148Z
UID:6911-1781827200-1781913599@www.rensselaercounty.org
SUMMARY:Juneteenth - Office Closed
DESCRIPTION:Office Closed
URL:https://www.rensselaercounty.org/event/juneteenth-office-closed-3/
END:VEVENT
BEGIN:VEVENT
DTSTART;VALUE=DATE:20260703
DTEND;VALUE=DATE:20260704
DTSTAMP:20260421T210919
CREATED:20251120T145918Z
LAST-MODIFIED:20251120T145918Z
UID:6919-1783036800-1783123199@www.rensselaercounty.org
SUMMARY:Independence Day (observed)- Office Closed
DESCRIPTION:Office Closed
URL:https://www.rensselaercounty.org/event/independence-day-observed-office-closed/
END:VEVENT
BEGIN:VEVENT
DTSTART;TZID=UTC:20260713T083000
DTEND;TZID=UTC:20260713T090000
DTSTAMP:20260421T210919
CREATED:20251223T175900Z
LAST-MODIFIED:20251223T175900Z
UID:7091-1783931400-1783933200@www.rensselaercounty.org
SUMMARY:July 2026 Honor A Deceased Veteran
DESCRIPTION:  \n 
URL:https://www.rensselaercounty.org/event/july-2026-honor-a-deceased-veteran/
CATEGORIES:Honor a Veteran
END:VEVENT
BEGIN:VEVENT
DTSTART;TZID=UTC:20260714T180000
DTEND;TZID=UTC:20260714T200000
DTSTAMP:20260421T210919
CREATED:20251120T153544Z
LAST-MODIFIED:20251120T153544Z
UID:6942-1784052000-1784059200@www.rensselaercounty.org
SUMMARY:Regular Meeting July 2026
DESCRIPTION:  \nLegislative Meeting will be held in the Legislative Chambers located at 99 Troy Road\, East Greenbush\, NY 12061 . \nFor more information on the meeting\, please contact the office at 518-270-2880. \n  \n  \n  \n  \n  \n 
URL:https://www.rensselaercounty.org/event/regular-meeting-july-2026/
END:VEVENT
BEGIN:VEVENT
DTSTART;TZID=UTC:20260810T083000
DTEND;TZID=UTC:20260810T090000
DTSTAMP:20260421T210919
CREATED:20251223T180146Z
LAST-MODIFIED:20251223T180146Z
UID:7094-1786350600-1786352400@www.rensselaercounty.org
SUMMARY:August 2026 Honor A Deceased Veteran
DESCRIPTION:  \n 
URL:https://www.rensselaercounty.org/event/august-2026-honor-a-deceased-veteran/
CATEGORIES:Honor a Veteran
END:VEVENT
BEGIN:VEVENT
DTSTART;TZID=UTC:20260811T180000
DTEND;TZID=UTC:20260811T200000
DTSTAMP:20260421T210919
CREATED:20251120T155005Z
LAST-MODIFIED:20251120T155005Z
UID:6944-1786471200-1786478400@www.rensselaercounty.org
SUMMARY:Regular Meeting August 2026
DESCRIPTION:  \nLegislative Meeting will be held in the Legislative Chambers located at 99 Troy Road\, East Greenbush\, NY 12061 . \nFor more information on the meeting\, please contact the office at 518-270-2880. \n  \n  \n  \n  \n  \n 
URL:https://www.rensselaercounty.org/event/regular-meeting-august-2026/
END:VEVENT
BEGIN:VEVENT
DTSTART;VALUE=DATE:20260907
DTEND;VALUE=DATE:20260908
DTSTAMP:20260421T210919
CREATED:20251120T150017Z
LAST-MODIFIED:20251120T150017Z
UID:6900-1788739200-1788825599@www.rensselaercounty.org
SUMMARY:Labor Day - Office Closed
DESCRIPTION:Office Closed
URL:https://www.rensselaercounty.org/event/labor-day-office-closed-3/
END:VEVENT
BEGIN:VEVENT
DTSTART;TZID=UTC:20260908T180000
DTEND;TZID=UTC:20260908T200000
DTSTAMP:20260421T210919
CREATED:20251120T155131Z
LAST-MODIFIED:20251120T155131Z
UID:6946-1788890400-1788897600@www.rensselaercounty.org
SUMMARY:Regular Meeting September 2026
DESCRIPTION:  \nLegislative Meeting will be held in the Legislative Chambers located at 99 Troy Road\, East Greenbush\, NY 12061 . \nFor more information on the meeting\, please contact the office at 518-270-2880. \n  \n  \n  \n  \n  \n 
URL:https://www.rensselaercounty.org/event/regular-meeting-september-2026/
END:VEVENT
BEGIN:VEVENT
DTSTART;TZID=UTC:20260914T083000
DTEND;TZID=UTC:20260914T090000
DTSTAMP:20260421T210919
CREATED:20251223T180246Z
LAST-MODIFIED:20251223T180246Z
UID:7096-1789374600-1789376400@www.rensselaercounty.org
SUMMARY:September 2026 Honor A Deceased Veteran
DESCRIPTION:  \n 
URL:https://www.rensselaercounty.org/event/september-2026-honor-a-deceased-veteran/
CATEGORIES:Honor a Veteran
END:VEVENT
BEGIN:VEVENT
DTSTART;VALUE=DATE:20261012
DTEND;VALUE=DATE:20261013
DTSTAMP:20260421T210919
CREATED:20251120T150147Z
LAST-MODIFIED:20251120T150147Z
UID:6922-1791763200-1791849599@www.rensselaercounty.org
SUMMARY:Columbus Day - Office closed
DESCRIPTION:Office Closed
URL:https://www.rensselaercounty.org/event/columbus-day-office-closed-5/
END:VEVENT
BEGIN:VEVENT
DTSTART;TZID=UTC:20261013T180000
DTEND;TZID=UTC:20261013T200000
DTSTAMP:20260421T210919
CREATED:20251120T155246Z
LAST-MODIFIED:20251120T155246Z
UID:6948-1791914400-1791921600@www.rensselaercounty.org
SUMMARY:Regular Meeting October 2026
DESCRIPTION:  \nLegislative Meeting will be held in the Legislative Chambers located at 99 Troy Road\, East Greenbush\, NY 12061 . \nFor more information on the meeting\, please contact the office at 518-270-2880. \n  \n  \n  \n  \n  \n 
URL:https://www.rensselaercounty.org/event/regular-meeting-october-2026/
END:VEVENT
END:VCALENDAR