BEGIN:VCALENDAR
VERSION:2.0
PRODID:-//Rensselaer County Legislature - ECPv6.15.17.1//NONSGML v1.0//EN
CALSCALE:GREGORIAN
METHOD:PUBLISH
X-WR-CALNAME:Rensselaer County Legislature
X-ORIGINAL-URL:https://www.rensselaercounty.org
X-WR-CALDESC:Events for Rensselaer County Legislature
REFRESH-INTERVAL;VALUE=DURATION:PT1H
X-Robots-Tag:noindex
X-PUBLISHED-TTL:PT1H
BEGIN:VTIMEZONE
TZID:UTC
BEGIN:STANDARD
TZOFFSETFROM:+0000
TZOFFSETTO:+0000
TZNAME:UTC
DTSTART:20160101T000000
END:STANDARD
END:VTIMEZONE
BEGIN:VEVENT
DTSTART;VALUE=DATE:20180313
DTEND;VALUE=DATE:20180314
DTSTAMP:20260422T121525
CREATED:20180618T190258Z
LAST-MODIFIED:20180618T190430Z
UID:545-1520899200-1520985599@www.rensselaercounty.org
SUMMARY:Regular Meeting
DESCRIPTION:View PDF
URL:https://www.rensselaercounty.org/event/march-13-2018/
END:VEVENT
BEGIN:VEVENT
DTSTART;VALUE=DATE:20180312
DTEND;VALUE=DATE:20180313
DTSTAMP:20260422T121525
CREATED:20180615T221150Z
LAST-MODIFIED:20180815T222439Z
UID:505-1520812800-1520899199@www.rensselaercounty.org
SUMMARY:Abbott L. Wiley - Honor a Deceased Veteran Ceremony
DESCRIPTION:Honoring Abbott L. Wiley\, held in the Legislative Chambers \nABBOTT LANSING WILEY\, 1916-2017\n FAMILY HISTORY:\nAbbott Lansing Wiley was born on December 18\, 1916 in Pittstown\, New York to the late Leonard J. and Alice (Sherman) Wiley.  Abbott was predeceased by three brothers and a sister\, Newton\, Charles\, Harold and Ellen. \nEDUCATION:\nAbbott attended Tomhannock Little Red School House and was a graduate of Lansingburgh High School.  He also attended the SUNY College of Agriculture and Technology at Cobleskill for one year until his enlistment into the United States Army. \n HISTORY:\nAbbott enlisted in the United States Army on October 1\, 1942 in Albany\, NY.  After basic training he attended Officer Candidate School\, where he was commissioned as a Second Lieutenant and sent to North Africa and Italy as part of the Fifth Army.  Abbott was promoted to the rank of Captain and Battery Commander of the 347th Field Artillery Battalion of the 91st Infantry Division.  He saw combat during “Operation Italia” in nine Italian cities and surrounding areas.  Abbott was the recipient of the European African Middle Eastern Campaign Medal with 3 Battle Stars\, American Campaign Medal and the World War II Victory Medal.  When Abbott was honorably discharged on February 6\, 1946\, he earned the rank of Major and received a Bronze Star for “Valor in combat while under enemy fire.” \n PERSONAL:\nOn October 20\, 1945\, Abbott married Ruth (Olney) Wiley in Watervliet\, New York.  Together they had three children\, Lynn (Dennis) Latham\, Carol Irvine and William (Sharon) Wiley.  Abbott is also survived by seven grandchildren\, Mark Schaefer\, Jennifer Schaefer\, William (Melissa) Irvine\, Andrew Irvine\, Melanie (Kevin) Lemmer\, Marina Wiley and Bryan Wiley\, and four great-grandchildren\, Johan Lemmer\, Mia Puglese\, Alexander and Madeline Irvine\, as well as several nieces and nephews. \n WORK EXPERIENCE:\nAbbott and his brother purchased a local business in Valley Falls and established Wiley Brothers Inc.\, a family run lumber and home hardware supply company.  In 2002\, Abbott retired from his business as the President. \n COMMUNITY ACTIVITIES/ORGANIZATIONS:\nAbbott was active in local Republican politics\, serving as the Town of Pittstown Supervisor\, the Chairman of the Rensselaer County Legislature\, Majority Office and a trustee of Hudson Valley Community College.  He was also a volunteer firefighter for the Valley Falls Fire Company.  He was a member of the Powamppokonk Rod and Gun Club in Pittstown. \nAbbott was an avid outdoorsman; he enjoyed hunting\, fishing\, trap and skeet shooting and wood working.  He also enjoyed photography and reading history books. \n  \n﻿
URL:https://www.rensselaercounty.org/event/march-12-2018/
CATEGORIES:Honor a Veteran
END:VEVENT
BEGIN:VEVENT
DTSTART;VALUE=DATE:20180213
DTEND;VALUE=DATE:20180214
DTSTAMP:20260422T121525
CREATED:20180618T190340Z
LAST-MODIFIED:20180824T214757Z
UID:548-1518480000-1518566399@www.rensselaercounty.org
SUMMARY:Regular Meeting
DESCRIPTION:Certified Packet 2-13-18
URL:https://www.rensselaercounty.org/event/february-13-2018/
END:VEVENT
BEGIN:VEVENT
DTSTART;VALUE=DATE:20180212
DTEND;VALUE=DATE:20180213
DTSTAMP:20260422T121525
CREATED:20180615T221339Z
LAST-MODIFIED:20180815T222551Z
UID:507-1518393600-1518479999@www.rensselaercounty.org
SUMMARY:Thomas P. Ryan - Honor a Deceased Veteran Ceremony
DESCRIPTION:Honoring Thomas P. Ryan\, held in the Legislative Chambers \nTHOMAS P. RYAN\, 1924-2016\n FAMILY HISTORY:\nThomas P. Ryan was born on August 19\, 1924 in Troy\, New York to the late Patrick and Rose Newell Ryan.  Thomas was the brother of Patricia Douglas and the late David Ryan. \nEDUCATION:\nThomas attended Catholic Grade School in Brooklyn until 1933 and then moved to Rensselaer\, where he attended St. John’s Academy and completed grade 5.  He then attended St. Michael’s in Troy and graduated from 8th grade in 1938.  Thomas attended Catholic Central High School for 2 years but then had to quit to work and help support his family. \n HISTORY:\nThomas enlisted in the United States Navy on March 12\, 1943 in Albany\, NY.  He was a Seaman First Class serving aboard the USS Lindsey DM 32 during World War II.  Thomas was 1 of 331 men serving aboard the ship when it was attacked by suicide planes from Japan in Okinawa\, leaving 114 crewmen either injured or dead.  Prior to serving aboard the USS Lindsey DM 32\, Thomas served on transport and supply ships\, carrying men and equipment for the Pacific invasions.  Thomas was the recipient of the American Theatre Medal\, Asiatic Pacific Medal and the Victory Medal.  Thomas P. Ryan was honorably discharged on February 19\, 1946. \n PERSONAL:\nThomas married his beloved wife\, the late Dorothy M. Chamberlain on October 12\, 1947 at St. Joseph’s Church in Green Island\, NY.  Together they had two daughters; Linda Reynolds and Sharon Ryan.  Thomas is also survived by his granddaughters; Tiffany (Jeff) Gibson and Kelly (Martin) O’Neill\, and his great grandchildren; Anthony\, Jeffrey\, Abby and Shannon\, as well as several nieces and nephews. \n WORK EXPERIENCE:\nAs a child\, Thomas helped deliver milk before school.  After the war he worked at Behr-Manning (Norton Company) in Watervliet\, NY in the abrasives shipping department for 40 years. \n COMMUNITY ACTIVITIES/ORGANIZATIONS:\nThomas was a member of the Tin Can Sailors National Association. \nThomas loved traveling with his wife to different locations across the country for reunions with survivors of the USS Lindsey DM 32.  He also enjoyed gardening\, talking with friends and taking walks with his K9 companions. \n  \n﻿﻿
URL:https://www.rensselaercounty.org/event/february-12-2018/
CATEGORIES:Honor a Veteran
END:VEVENT
BEGIN:VEVENT
DTSTART;VALUE=DATE:20180109
DTEND;VALUE=DATE:20180110
DTSTAMP:20260422T121525
CREATED:20180618T190518Z
LAST-MODIFIED:20180618T190518Z
UID:550-1515456000-1515542399@www.rensselaercounty.org
SUMMARY:Regular Meeting
DESCRIPTION:View PDF
URL:https://www.rensselaercounty.org/event/january-9-2018/
END:VEVENT
BEGIN:VEVENT
DTSTART;VALUE=DATE:20180108
DTEND;VALUE=DATE:20180109
DTSTAMP:20260422T121525
CREATED:20180615T221632Z
LAST-MODIFIED:20180815T222343Z
UID:510-1515369600-1515455999@www.rensselaercounty.org
SUMMARY:Stanley J. & David B. Opitz - Honor a Deceased Veteran Ceremony
DESCRIPTION:Honoring Stanley J. & David B. Opitz\, held in the Legislative Chambers \nSTANLEY J. OPITZ\, 1924-1979\n FAMILY HISTORY:\nStanley J. Opitz was born on July 31\, 1924 in Troy\, New York to the late Ignatious Opitz and Victoria Romaniszyn Opitz.  Stanley was the brother of Lucy\, Albina and Joseph.  Stanley was a lifelong resident of Troy. \nEDUCATION:\nStanley attended School #12 in Troy\, NY and later received his GED. \n HISTORY:\nStanley enlisted in the United States Marine Corps on October 1\, 1942 in Albany\, New York during World War II.  He was an Aviation Mechanic where he set up and operated milling machines\, turret lathes\, planers and shapers.  He also worked on cast iron and aluminum.  Stanley was honorably discharged on February 3\, 1946. \n PERSONAL:\nStanley married Lupita Berrigan Opitz on December 2\, 1943.  Together they had five children\, Stanley\, Donna\, John\, Tim and the late David\, and two grandchildren\, Mike and Shannon. \n WORK EXPERIENCE:\nStanley worked for Cardish Machine Works from 1946-1958.  He also worked as a machinist at Ford Motor Co. from 1959-1979. \n COMMUNITY ACTIVITIES/ORGANIZATIONS:\nStanley was a communicant of Sacred Heart Church in Troy\, a member of the Polish American Club of Troy\, Boy Scouts of America and Local 930\, United Auto Workers of Green Island. \nStanley loved to travel with family\, do crossword puzzles\, play darts and work on cars. \nDAVID B. OPITZ\, 1947-2007\n FAMILY HISTORY:\nDavid B. Opitz was born on September 12\, 1947 in Troy\, New York to the late Lupita Berrigan Opitz and Stanley J. Opitz.  David was the brother of Donna\, John\, Tim and the late Stanley. \nEDUCATION:\nDavid attended St. Joseph’s School\, and then Lasalle\, finishing his high school education at Troy High School\, class of 1965. \n  HISTORY:\nDavid enlisted in the United States Navy Reserves on May 28\, 1967.  He was ordered to active duty on December 1\, 1967.  He was assigned to the USS Warrington (DD 843)\, where he was a Boatwain’s Mate.  David was the recipient of the National Defense Medal.  He was honorably discharged on August 21\, 1972. \n PERSONAL:\nDavid married Barbara Fitzgerald Opitz and together they had two children; Shannon and Michael.  David was also survived by his two four-legged canine friends; Blu and Grey; and several nieces and nephews. \n WORK EXPERIENCE:\nDavid worked as an Engineer for Verizon\, retiring in 2002. \n COMMUNITY ACTIVITIES/ORGANIZATIONS:\nDavid was a member of the American Legion Post in Wynantskill\, New York and the Polish American Club.  He was also a Little League Coach. \nDavid loved reading\, wood working and spending time with his family. \n  \n﻿﻿﻿
URL:https://www.rensselaercounty.org/event/january-8-2018/
CATEGORIES:Honor a Veteran
END:VEVENT
BEGIN:VEVENT
DTSTART;TZID=UTC:20171219T180000
DTEND;TZID=UTC:20171219T180000
DTSTAMP:20260422T121525
CREATED:20180618T195641Z
LAST-MODIFIED:20180618T195641Z
UID:606-1513706400-1513706400@www.rensselaercounty.org
SUMMARY:Special Meeting
DESCRIPTION:Held in the Legislative Chambers \nView PDF
URL:https://www.rensselaercounty.org/event/december-19-2017/
END:VEVENT
BEGIN:VEVENT
DTSTART;TZID=UTC:20171212T180000
DTEND;TZID=UTC:20171212T180000
DTSTAMP:20260422T121525
CREATED:20180618T195507Z
LAST-MODIFIED:20180618T195507Z
UID:602-1513101600-1513101600@www.rensselaercounty.org
SUMMARY:Regular Meeting
DESCRIPTION:Held in the Legislative Chambers \nView PDF
URL:https://www.rensselaercounty.org/event/december-12-2017/
END:VEVENT
BEGIN:VEVENT
DTSTART;VALUE=DATE:20171211
DTEND;VALUE=DATE:20171212
DTSTAMP:20260422T121525
CREATED:20180615T180925Z
LAST-MODIFIED:20180815T222646Z
UID:466-1512950400-1513036799@www.rensselaercounty.org
SUMMARY:Edward L. Pratt - Honor a Deceased Veteran Ceremony
DESCRIPTION:Honoring Edward L. Pratt\, held in the Legislative Chambers \nEDWARD LEONARD PRATT\, 1923-2004\n FAMILY HISTORY:\nEdward Leonard Pratt was born in Chicago\, Illinois on October 18\, 1923 to the late Edward L. Pratt and Mary Catherine Gallagher.  Edward was the brother of William Pratt and he was predeceased by his sister\, Catherine Donnelly. \nEDUCATION:\nEdward was a graduate of St. John’s Academy\, class of 1941.  After the service\, Edward attended Siena College where he was a graduate\, class of 1956. \n HISTORY:\nEdward enlisted in the United States Army on August 26\, 1943 in Albany\, New York.  While serving as a Technician Fifth Grade\, Medical Department\, Medical Detachment in the 254th Infantry Regiment\, Edward received the Silver Star and Bronze Star for such “magnificent courage and outstanding gallantry under fire”\, during the attack on the Siegfried Line.  Edward was also the proud recipient of the American Service Medal\, European African Middle Eastern Service Medal\, Good Conduct Medal\, Presidential Unit Citation and the World War II Victory Medal.  Edward was honorably discharged from the 142nd Infantry Regiment\, 36th Infantry Division as Sergeant on December 22\, 1945. \n PERSONAL:\nEdward married Lillian Elizabeth Spath on March 6\, 1943 at St. John’s Church in Rensselaer\, New York.  Edward is survived by two children\, Edward Pratt and Rosemary Crawford\, and four grandchildren\, Frank Costa\, Nick Costa\, Doreen Stewart and E6 Edward Costa\, United States Coast Guard.  He is also survived by a brother and sister-in-law\, Jack and Mary Spath. \n WORK EXPERIENCE:\nEdward began his career in chemistry with Sterling Drug\, where he worked as a lab boy at Sterling Winthrop in the early 1940s.  After the war\, Edward returned to Sterling Drug and moved to the Analytical Chemistry Department at the Sterling Winthrop Research Institute in 1965.  In 1986\, Ed retired as the Director of Analytical Chemistry. \n COMMUNITY ACTIVITIES/ORGANIZATIONS:\nEdward was a lifelong active parishioner in his church\, where he was a Eucharistic Minister\, lector and trustee.  He was on the board of the US Pharmacopeia for 12 years and an emeritus member of Sigma XI.  Edward was also active with the Knights of Columbus\, Council 267. \nEdward enjoyed golfing\, reading and research.  He was also very active in his children’s activities. \n  \n﻿
URL:https://www.rensselaercounty.org/event/december-11-2017/
CATEGORIES:Honor a Veteran
END:VEVENT
BEGIN:VEVENT
DTSTART;TZID=UTC:20171204T180000
DTEND;TZID=UTC:20171204T180000
DTSTAMP:20260422T121525
CREATED:20180618T195548Z
LAST-MODIFIED:20180618T195548Z
UID:604-1512410400-1512410400@www.rensselaercounty.org
SUMMARY:Special Meeting
DESCRIPTION:Held in the Legislative Chambers \nView PDF
URL:https://www.rensselaercounty.org/event/december-4-2017/
END:VEVENT
BEGIN:VEVENT
DTSTART;TZID=UTC:20171114T180000
DTEND;TZID=UTC:20171114T180000
DTSTAMP:20260422T121525
CREATED:20180618T195121Z
LAST-MODIFIED:20180618T195121Z
UID:598-1510682400-1510682400@www.rensselaercounty.org
SUMMARY:Regular Meeting
DESCRIPTION:Held in the Legislative Chambers \nView PDF
URL:https://www.rensselaercounty.org/event/november-14-2017/
END:VEVENT
BEGIN:VEVENT
DTSTART;VALUE=DATE:20171113
DTEND;VALUE=DATE:20171114
DTSTAMP:20260422T121525
CREATED:20180615T222016Z
LAST-MODIFIED:20180815T222742Z
UID:513-1510531200-1510617599@www.rensselaercounty.org
SUMMARY:William P. Wade - Honor a Deceased Veteran Ceremony
DESCRIPTION:Honoring William P. Wade\, held in the Legislative Chambers \nWILLIAM P. WADE\, 1922-1970\n FAMILY HISTORY:\nWilliam P. Wade was born in Troy\, New York on November 2\, 1922.  He was the son of William J. Wade and Julia M. Morris.  William was the brother of Robert J. Wade\, Florence Wade Filippone and Patricia Wade Bizarro. \nEDUCATION:\nWilliam attended St. Michael’s School and was a Troy High Graduate\, class of 1940. \n HISTORY:\nWilliam enlisted in the United States Navy on December 8\, 1942.  He was a Radioman Second Class and he served aboard the Navy Submarine Chaser USS SC-1319.  William was the proud recipient of the Philippine Liberation Ribbon with 2 stars\, Asiatic Pacific Ribbon with 3 stars\, American Theater Ribbon\, Victory Ribbon and Good Conduct Medal.  William was honorably discharged on January 6\, 1946. \n PERSONAL:\nOn November 25\, 1945\, William married Bernice D. Walsh in St. Francis Church in Troy\, New York.  Together they had two children\, Thomas W. Wade and Edward J. Wade and five grandchildren\, Sheila Wade Duffy\, Kristin Wade\, William P. Wade. II\, Matthew Wade and Timothy Wade. \n WORK EXPERIENCE:\nWilliam worked for the New York Telephone Co.\, he was the Rensselaer County Commissioner of Social Services from 1965-1967 and he was the Rensselaer County Clerk from January 1\, 1970 until August 4\, 1970\, when he passed away.  William was also the Proprietor of Wade’s Wine Shop. \n COMMUNITY ACTIVITIES/ORGANIZATIONS:\nWilliam was a member of the American Legion\, St. Mary’s Bowling League and Holy Name Society.  He was also the East Greenbush Democratic Chairman and a member of the Rensselaer County Democratic Committee. \nWilliam had a love for fishing and youth baseball. \n  \n  \n﻿
URL:https://www.rensselaercounty.org/event/november-13-2017/
CATEGORIES:Honor a Veteran
END:VEVENT
BEGIN:VEVENT
DTSTART;TZID=UTC:20171010T180000
DTEND;TZID=UTC:20171010T180000
DTSTAMP:20260422T121525
CREATED:20180618T195046Z
LAST-MODIFIED:20180618T195046Z
UID:596-1507658400-1507658400@www.rensselaercounty.org
SUMMARY:Regular Meeting
DESCRIPTION:Held in the Legislative Chambers \nView PDF
URL:https://www.rensselaercounty.org/event/october-10-2017-2/
END:VEVENT
BEGIN:VEVENT
DTSTART;VALUE=DATE:20171010
DTEND;VALUE=DATE:20171011
DTSTAMP:20260422T121525
CREATED:20180615T222350Z
LAST-MODIFIED:20180815T223048Z
UID:515-1507593600-1507679999@www.rensselaercounty.org
SUMMARY:Elton G. Cook\, Sr. - Honor a Deceased Veteran Ceremony
DESCRIPTION:Honoring Elton G. Cook\, Sr.\, held in the Legislative Chambers \nELTON GEORGE COOK\, SR.\, 1907-2004\n FAMILY HISTORY:\nElton George Cook\, Sr. was born in Waterford\, New York on September 4\, 1907.  He was son of the late Albert and Blanche Cook.  Elton is brother of the late James\, Ted and Wesley Cook\, Helen Cuniff and Florence Normington. \nEDUCATION:\nElton attended Waterford Academy. \n HISTORY:\nElton enlisted in the United States Army on October 29\, 1942.  He served during World War II in the Pacific Theatre.  Elton was the proud recipient of the Asiatic-Pacific Service Medal and the Good Conduct Medal.  He was honorably discharged on October 12\, 1945. \n PERSONAL:\nOn November 20\, 1954\, Elton married his wife\, the late Elizabeth Daleva Cook in St. Jean’s Church\, Troy\, New York.  Together they had two children\, Nicholas J. (Edie) Cook\, Sr. and the late Elton G. Cook\, Jr.  Elton is also survived by his grandchildren\, Nicholas J. Cook\, Jr.\, Amanda L. Cook and Zachary M. Cook\, as well as many nieces and nephews. \n WORK EXPERIENCE:\nElton was an ambulance driver for the former Leonard Hospital in Troy for 42 years. \n COMMUNITY ACTIVITIES/ORGANIZATIONS:\nElton was a life member of the Veterans of Foreign Wars Post 7466 in Poestenkill. He was a former member of the Cpl. Paul J. Baker Post VFW in Lansingburgh and Phoenix Lodge #58 F & AM in Lansingburgh.  Elton also served as captain of the Knickerbocker Steamer Co. #1 in Waterford from 1928-1935. \nElton had a love for fishing\, walking and listening to ambulance calls. \n  \n﻿﻿
URL:https://www.rensselaercounty.org/event/october-10-2017/
CATEGORIES:Honor a Veteran
END:VEVENT
BEGIN:VEVENT
DTSTART;TZID=UTC:20170913T180000
DTEND;TZID=UTC:20170913T180000
DTSTAMP:20260422T121525
CREATED:20180618T195012Z
LAST-MODIFIED:20180618T195012Z
UID:594-1505325600-1505325600@www.rensselaercounty.org
SUMMARY:Regular Meeting
DESCRIPTION:Held in the Legislative Chambers \nView PDF
URL:https://www.rensselaercounty.org/event/september-13-2017/
END:VEVENT
BEGIN:VEVENT
DTSTART;VALUE=DATE:20170911
DTEND;VALUE=DATE:20170912
DTSTAMP:20260422T121525
CREATED:20180615T222531Z
LAST-MODIFIED:20180815T223218Z
UID:517-1505088000-1505174399@www.rensselaercounty.org
SUMMARY:Gerald O'Brien - Honor a Deceased Veteran Ceremony
DESCRIPTION:Honoring Gerald O’Brien\, held in the Legislative Chambers \nGERALD J. O’BRIEN\, 1934-2016\n FAMILY HISTORY:\nGerald J. O’Brien was born in Troy\, New York on May 24\, 1934.  He was the son of Joseph O’ Brien and Margaret (Hickey) O’Brien. \n EDUCATION:\nGerald attended St. Augustine School and Catholic Central High School.  After high school he attended Hudson Valley Community College. \n HISTORY:\nGerald enlisted in the United States Navy on September 8\, 1953 in Bainbridge\, Maryland.  He trained as a Seabee in Port Hueneme\, California and was stationed on the US Naval Base Trinidad.  Gerald was the proud recipient of the National Defense Service Medal.  He was honorably discharged on August 9\, 1955 \n PERSONAL:\nOn September 14\, 1957\, Gerald married his wife Barbara (Kelly) O’Brien in St. Joseph’s Church.  Together they had five children\, Susan Wyld\, Kathleen O’Brien\, Sharon Vest\, Maureen Pace and the late Sgt. James O’Brien.  Gerald is also survived by his favorite daughter-in-law\, Sally O’Brien and four grandchildren\, Casey and Aileen O’Brien\, and Kelly and Michael Vest. \n WORK EXPERIENCE:\nGerald began employment with National Grid as a meter reader.  After 42 years of service\, Gerald retired as a Supervisor in the Gas Department. \n COMMUNITY ACTIVITIES/ORGANIZATIONS:\nGerald was a communicant of Sacred Heart Church.  He volunteered with Community Hospice for over 20 years and he was also a long time Eucharistic minister at St. Mary’s Hospital.  Gerald was also a member of the Elks and the NiMo Pension Club East. \nGerald loved to read\, golf\, kayak and travel.  He loved spending his winters in Florida with his wife Barbara and Gloucester was always a special place for him and his family. \n  \n﻿﻿
URL:https://www.rensselaercounty.org/event/september-11-2017/
CATEGORIES:Honor a Veteran
END:VEVENT
BEGIN:VEVENT
DTSTART;VALUE=DATE:20170814
DTEND;VALUE=DATE:20170815
DTSTAMP:20260422T121525
CREATED:20180615T222700Z
LAST-MODIFIED:20180815T223619Z
UID:519-1502668800-1502755199@www.rensselaercounty.org
SUMMARY:Patrick & Maurice Russell - Honor a Deceased Veteran Ceremony
DESCRIPTION:Honoring Patrick & Maurice Russell\, held in the Legislative Chambers \nPATRICK K. RUSSELL\, 1906-1985\n FAMILY HISTORY:\nPatrick K. Russell was born in Labasheeda County Clare\, Ireland on April 19\, 1906 to the late Patrick and Ellen (Flatley) Russell.  Patrick was one of seven children\, having four sisters\, Helen\, Nancy\, Mae and Margaret; and two brothers\, David and John. \n EDUCATION:\nPatrick attended Elementary School in Ireland. \n HISTORY:\nPatrick enlisted in the United States Army on January 15\, 1942 during World War II.  He was the proud recipient of the Good Conduct Medal and the European African Middle Eastern Theater Campaign Ribbon.  Patrick was honorably discharged on October 5\, 1945. \n PERSONAL:\nPatrick married his wife\, Anne (Fitzgerald) Russell on June 10\, 1946 in Troy.  Together they had four children\, Mary Anne\, Patrick Jr.\, John and the late Maurice.  He is also survived by nine grandchildren\, Shannon\, Patrick\, Garth\, Michael\, James\, Geoffery\, Annie\, Jennifer and Jay; and twelve great-grandchildren. \n WORK EXPERIENCE:\nPatrick was employed with Vanderheyden School and Ten Eyck Hotel in Albany. \n COMMUNITY ACTIVITIES/ORGANIZATIONS:\nPatrick was Chief of Vanderheyden Hall and he was also a member of the Ancient Order of Hibernians in Troy and Watervliet. \nPatrick loved gardening and was a avid Yankee fan. \n  \n﻿﻿
URL:https://www.rensselaercounty.org/event/august-14-2017/
CATEGORIES:Honor a Veteran
END:VEVENT
BEGIN:VEVENT
DTSTART;TZID=UTC:20170808T180000
DTEND;TZID=UTC:20170808T180000
DTSTAMP:20260422T121525
CREATED:20180618T194919Z
LAST-MODIFIED:20180618T194919Z
UID:592-1502215200-1502215200@www.rensselaercounty.org
SUMMARY:Regular Meeting
DESCRIPTION:Held in the Legislative Chambers \nView PDF
URL:https://www.rensselaercounty.org/event/august-8-2017/
END:VEVENT
BEGIN:VEVENT
DTSTART;TZID=UTC:20170711T180000
DTEND;TZID=UTC:20170711T180000
DTSTAMP:20260422T121525
CREATED:20180618T194845Z
LAST-MODIFIED:20180618T194845Z
UID:590-1499796000-1499796000@www.rensselaercounty.org
SUMMARY:Regular Meeting
DESCRIPTION:Held in the Legislative Chambers \nView PDF
URL:https://www.rensselaercounty.org/event/july-11-2017/
END:VEVENT
BEGIN:VEVENT
DTSTART;VALUE=DATE:20170710
DTEND;VALUE=DATE:20170711
DTSTAMP:20260422T121525
CREATED:20180615T222917Z
LAST-MODIFIED:20180815T224328Z
UID:521-1499644800-1499731199@www.rensselaercounty.org
SUMMARY:Peter & Frank Magnetto - Honor a Deceased Veteran Ceremony
DESCRIPTION:Honoring Peter & Frank Magnetto\, held in the Legislative Chambers \n﻿﻿
URL:https://www.rensselaercounty.org/event/july-10-2017/
CATEGORIES:Honor a Veteran
END:VEVENT
BEGIN:VEVENT
DTSTART;TZID=UTC:20170613T180000
DTEND;TZID=UTC:20170613T180000
DTSTAMP:20260422T121525
CREATED:20180618T194812Z
LAST-MODIFIED:20180618T194812Z
UID:588-1497376800-1497376800@www.rensselaercounty.org
SUMMARY:Regular Meeting
DESCRIPTION:Held in the Legislative Chambers \nView PDF
URL:https://www.rensselaercounty.org/event/june-13-2017/
END:VEVENT
BEGIN:VEVENT
DTSTART;VALUE=DATE:20170612
DTEND;VALUE=DATE:20170613
DTSTAMP:20260422T121525
CREATED:20180615T223044Z
LAST-MODIFIED:20180615T223044Z
UID:523-1497225600-1497311999@www.rensselaercounty.org
SUMMARY:Honor a Deceased Veteran Ceremony
DESCRIPTION:Honoring Keith R. Gallup\, held in the Legislative Chambers \n﻿﻿
URL:https://www.rensselaercounty.org/event/june-12-2017/
CATEGORIES:Honor a Veteran
END:VEVENT
BEGIN:VEVENT
DTSTART;TZID=UTC:20170509T180000
DTEND;TZID=UTC:20170509T180000
DTSTAMP:20260422T121525
CREATED:20180618T194736Z
LAST-MODIFIED:20180618T194736Z
UID:586-1494352800-1494352800@www.rensselaercounty.org
SUMMARY:Regular Meeting
DESCRIPTION:Held in the Legislative Chambers \nView PDF
URL:https://www.rensselaercounty.org/event/may-9-2017/
END:VEVENT
BEGIN:VEVENT
DTSTART;VALUE=DATE:20170508
DTEND;VALUE=DATE:20170509
DTSTAMP:20260422T121525
CREATED:20180615T223143Z
LAST-MODIFIED:20180615T223143Z
UID:525-1494201600-1494287999@www.rensselaercounty.org
SUMMARY:Honor a Deceased Veteran Ceremony
DESCRIPTION:Honoring Edward F. Dougherty\, held in the Legislative Chambers \n﻿﻿
URL:https://www.rensselaercounty.org/event/may-8-2017/
CATEGORIES:Honor a Veteran
END:VEVENT
BEGIN:VEVENT
DTSTART;TZID=UTC:20170411T180000
DTEND;TZID=UTC:20170411T180000
DTSTAMP:20260422T121525
CREATED:20180618T194703Z
LAST-MODIFIED:20180618T194703Z
UID:584-1491933600-1491933600@www.rensselaercounty.org
SUMMARY:Regular Meeting
DESCRIPTION:Held in the Legislative Chambers \nView PDF
URL:https://www.rensselaercounty.org/event/april-11-2017/
END:VEVENT
BEGIN:VEVENT
DTSTART;VALUE=DATE:20170410
DTEND;VALUE=DATE:20170411
DTSTAMP:20260422T121525
CREATED:20180615T223231Z
LAST-MODIFIED:20180615T223231Z
UID:527-1491782400-1491868799@www.rensselaercounty.org
SUMMARY:Honor a Deceased Veteran Ceremony
DESCRIPTION:Honoring John J. McCann\, held in the Legislative Chambers
URL:https://www.rensselaercounty.org/event/april-10-2017/
CATEGORIES:Honor a Veteran
END:VEVENT
BEGIN:VEVENT
DTSTART;TZID=UTC:20170316T180000
DTEND;TZID=UTC:20170316T180000
DTSTAMP:20260422T121525
CREATED:20180618T194623Z
LAST-MODIFIED:20180618T194623Z
UID:580-1489687200-1489687200@www.rensselaercounty.org
SUMMARY:Regular Meeting
DESCRIPTION:Held in the Legislative Chambers \nView PDF
URL:https://www.rensselaercounty.org/event/march-16-2017/
END:VEVENT
BEGIN:VEVENT
DTSTART;VALUE=DATE:20170313
DTEND;VALUE=DATE:20170314
DTSTAMP:20260422T121525
CREATED:20180615T223318Z
LAST-MODIFIED:20180615T223318Z
UID:529-1489363200-1489449599@www.rensselaercounty.org
SUMMARY:Honor a Deceased Veteran Ceremony
DESCRIPTION:Honoring John J. Flynn\, held in the Legislative Chambers
URL:https://www.rensselaercounty.org/event/march-13-2017/
CATEGORIES:Honor a Veteran
END:VEVENT
BEGIN:VEVENT
DTSTART;TZID=UTC:20170214T180000
DTEND;TZID=UTC:20170214T180000
DTSTAMP:20260422T121525
CREATED:20180618T194411Z
LAST-MODIFIED:20180618T194548Z
UID:578-1487095200-1487095200@www.rensselaercounty.org
SUMMARY:Regular Meeting
DESCRIPTION:Held in the Legislative Chambers \nG/48/17 Standard Work Day Resolution \nView PDF
URL:https://www.rensselaercounty.org/event/february-14-2017/
END:VEVENT
BEGIN:VEVENT
DTSTART;VALUE=DATE:20170213
DTEND;VALUE=DATE:20170214
DTSTAMP:20260422T121525
CREATED:20180615T223351Z
LAST-MODIFIED:20180615T223351Z
UID:531-1486944000-1487030399@www.rensselaercounty.org
SUMMARY:Honor a Deceased Veteran Ceremony
DESCRIPTION:Honoring Philip J. Minissale\, held in the Legislative Chambers
URL:https://www.rensselaercounty.org/event/february-13-2017/
CATEGORIES:Honor a Veteran
END:VEVENT
END:VCALENDAR