BEGIN:VCALENDAR
VERSION:2.0
PRODID:-//Rensselaer County Legislature - ECPv6.15.17.1//NONSGML v1.0//EN
CALSCALE:GREGORIAN
METHOD:PUBLISH
X-WR-CALNAME:Rensselaer County Legislature
X-ORIGINAL-URL:https://www.rensselaercounty.org
X-WR-CALDESC:Events for Rensselaer County Legislature
REFRESH-INTERVAL;VALUE=DURATION:PT1H
X-Robots-Tag:noindex
X-PUBLISHED-TTL:PT1H
BEGIN:VTIMEZONE
TZID:UTC
BEGIN:STANDARD
TZOFFSETFROM:+0000
TZOFFSETTO:+0000
TZNAME:UTC
DTSTART:20240101T000000
END:STANDARD
END:VTIMEZONE
BEGIN:VEVENT
DTSTART;TZID=UTC:20250908T083000
DTEND;TZID=UTC:20250908T090000
DTSTAMP:20260421T174712
CREATED:20250211T183936Z
LAST-MODIFIED:20250918T181330Z
UID:6123-1757320200-1757322000@www.rensselaercounty.org
SUMMARY:September 2025 Honor A Deceased Veteran - Andrew J. Carras
DESCRIPTION:September 2025\nAndrew J. Carras\n1924-2017 \nFAMILY HISTORY:\nAndrew J. Carras was born on August 6\, 1924 in Albany\, New York. He was the son of the late George and Helen (Tenzar) Carras\, and brother to James\, William\, Catherine\, Peter\, John\, Francis\, Mary\, and Vincent \nEDUCATION:\nAndrew grew up in Albany\, New York\, and attended Phillip Livingston High School\, leaving before graduation to join the Navy.  He lied about his age so that he could serve\, his was not yet 18 years old.   Andrew later resided in East Greenbush\, New York \nHISTORY:\nIn 1941\, Andrew enlisted in the United States Navy.  Andrew was assigned to the destroyer USS Madison DD425 for the duration of the war.  He was the ships cook third class.  During his tour of duty\, the USS Madison was involved in a variety of conflicts.  Andrew was awarded the European African Eastern Area Campaign Medal\, European African Eastern Campaign Ribbon\, American Area Campaign Medal\, European African-Middle Eastern Campaign Ribbon\, and the World War II Victory Ribbon \n PERSONAL:\nAndrew married his wife\, Lois (Kearney) Carras on May 8\, 1946 in Albany. Together they had three children: Helen\, Linda\, Kennedy\, and Lillian; three grandchildren: Elizabeth\, Melissa\, and Brian; Four great grandchildren: Rachel\, Lauren\, Adam\, and Abigail; and one great great grandchild; Lincoln \nWORK EXPERIENCE:\nAfter his Honorable Discharge from the United States Navy on November 18\, 1945\, Andrew became employed by Tobin Packing Company in West Albany\, New York and worked in various positions until the plant closed in 1980.   After his retirement from Tobin Packing\, Andrew started working for the Town of East Greenbush Water Department from 1980 until 1986\, when he retired \n  \nCOMMUNITY ACTIVITIES/ORGANIZATIONS:\nAndrew was a member of East Greenbush Fire Company\, and Melvin roads American Legion.  He served on the East Greenbush Zoning Board of Appeals and as an East Greenbush Committeeman.  He loved to travel with his wife and family\, traveling to almost all of the 50 states.  He also enjoyed fishing\, gardening\, golfing and spending time with family and friends \nSadly\, on January 28\, 2017\, Andrew passed away and was laid to rest at Holy Sepulcher Cemetery in East Greenbush\, New York
URL:https://www.rensselaercounty.org/event/september-2025-honor-a-deceased-veteran/
CATEGORIES:Honor a Veteran
END:VEVENT
END:VCALENDAR