BEGIN:VCALENDAR
VERSION:2.0
PRODID:-//Rensselaer County Legislature - ECPv6.15.17.1//NONSGML v1.0//EN
CALSCALE:GREGORIAN
METHOD:PUBLISH
X-WR-CALNAME:Rensselaer County Legislature
X-ORIGINAL-URL:https://www.rensselaercounty.org
X-WR-CALDESC:Events for Rensselaer County Legislature
REFRESH-INTERVAL;VALUE=DURATION:PT1H
X-Robots-Tag:noindex
X-PUBLISHED-TTL:PT1H
BEGIN:VTIMEZONE
TZID:UTC
BEGIN:STANDARD
TZOFFSETFROM:+0000
TZOFFSETTO:+0000
TZNAME:UTC
DTSTART:20240101T000000
END:STANDARD
END:VTIMEZONE
BEGIN:VEVENT
DTSTART;TZID=UTC:20250113T083000
DTEND;TZID=UTC:20250113T090000
DTSTAMP:20260422T063757
CREATED:20250211T185503Z
LAST-MODIFIED:20250211T185503Z
UID:6134-1736757000-1736758800@www.rensselaercounty.org
SUMMARY:January 2025 Honor A Deceased Veteran - No Veteran for January
DESCRIPTION:
URL:https://www.rensselaercounty.org/event/january-2025-honor-a-deceased-veteran-no-veteran-for-january/
CATEGORIES:Honor a Veteran
END:VEVENT
END:VCALENDAR