BEGIN:VCALENDAR
VERSION:2.0
PRODID:-//Rensselaer County Legislature - ECPv6.15.17.1//NONSGML v1.0//EN
CALSCALE:GREGORIAN
METHOD:PUBLISH
X-ORIGINAL-URL:https://www.rensselaercounty.org
X-WR-CALDESC:Events for Rensselaer County Legislature
REFRESH-INTERVAL;VALUE=DURATION:PT1H
X-Robots-Tag:noindex
X-PUBLISHED-TTL:PT1H
BEGIN:VTIMEZONE
TZID:UTC
BEGIN:STANDARD
TZOFFSETFROM:+0000
TZOFFSETTO:+0000
TZNAME:UTC
DTSTART:20230101T000000
END:STANDARD
END:VTIMEZONE
BEGIN:VEVENT
DTSTART;TZID=UTC:20241015T083000
DTEND;TZID=UTC:20241015T090000
DTSTAMP:20260422T115416
CREATED:20231206T172100Z
LAST-MODIFIED:20241021T153013Z
UID:4688-1728981000-1728982800@www.rensselaercounty.org
SUMMARY:October 2024 Honor A Deceased Veteran - Michael A. DeBonis
DESCRIPTION:  \n \nMichael A. DeBonis\n1950-2005 \nFAMILY HISTORY:\nMichael A. DeBonis was born on September 7\, 1950 in Troy\, New York. He was the son of Michael and Josephine (Casale) DeBonis\, and brother to Anna Marie\, and the late Lorraine and Donnie. \nEDUCATION:\n Michael grew up in Troy\, New York and received his education through St. Mary’s School\, and graduated from Troy High School and Hudson Valley Community College. \nHISTORY:\nIn 1970\, Michael enlisted in the United State Army in Troy\, New York. He served during the Vietnam War receiving the National Defense Service Medal; Vietnam Service Medal; Vietnam Campaign Medal; 2 O/S Bars; Sharpshooter Badge Rifle M16; Expert Badge Hand Grenade. \nPERSONAL:\nMichael married his wife\, Kathleen A. (Agostine) DeBonis on May 4\, 1973 in Troy\, New York. Together they had two children: The late Michael and Lindsay DeBonis; Brother-in-law to: Dominic Mancino\, Mary Finelli\, Fran Agostine and Jean Holmes; Survived by several nieces and nephews. \nWORK EXPERIENCE:\nAfter his Honorable Discharge from the Army in 1972\, Michael continued his employment with the Watervliet Arsenal for over 20 years. \n  \nCOMMUNITY ACTIVITIES/ORGANIZATIONS:\nIn his spare time\, Michael enjoyed spending time hunting\, darts\, enjoyed playing a mean game of corks and the comradery with fellow members of CRAB Club\, Emerald Club\, Disabled American Veterans (DAV) and the American Legion. \nSadly\, on March 22\, 2005\, Michael passed away.
URL:https://www.rensselaercounty.org/event/october-2024-honor-a-deceased-veteran/
CATEGORIES:Honor a Veteran
END:VEVENT
END:VCALENDAR