BEGIN:VCALENDAR
VERSION:2.0
PRODID:-//Rensselaer County Legislature - ECPv6.15.17.1//NONSGML v1.0//EN
CALSCALE:GREGORIAN
METHOD:PUBLISH
X-WR-CALNAME:Rensselaer County Legislature
X-ORIGINAL-URL:https://www.rensselaercounty.org
X-WR-CALDESC:Events for Rensselaer County Legislature
REFRESH-INTERVAL;VALUE=DURATION:PT1H
X-Robots-Tag:noindex
X-PUBLISHED-TTL:PT1H
BEGIN:VTIMEZONE
TZID:UTC
BEGIN:STANDARD
TZOFFSETFROM:+0000
TZOFFSETTO:+0000
TZNAME:UTC
DTSTART:20220101T000000
END:STANDARD
END:VTIMEZONE
BEGIN:VEVENT
DTSTART;TZID=UTC:20230213T083000
DTEND;TZID=UTC:20230213T090000
DTSTAMP:20260423T222948
CREATED:20221107T191442Z
LAST-MODIFIED:20230202T165139Z
UID:3287-1676277000-1676278800@www.rensselaercounty.org
SUMMARY:February 2023 Honor A Deceased Veteran - Canceled
DESCRIPTION:There is no HAV Ceremony for February 2023 \nPlease note that this is a Tentative Date for the HAV Ceremony.  This page will be updated if an application is received.   If you wish to be notified\, please contact the office. \nHonor A Deceased Veteran Ceremony will be held in the Legislative Chambers of the Rensselaer County Legislature. \nDue to the pending relocation of the Rensselaer County Legislative Chambers to it’s new location at 99 Troy Road\, East Greenbush\, NY\,  please contact the the legislature to confirm the location. \nFor questions or application information\, please contact the Legislature at 518-270-2880. \n 
URL:https://www.rensselaercounty.org/event/february-2023-honor-a-deceased-veteran/
CATEGORIES:Honor a Veteran
END:VEVENT
END:VCALENDAR