BEGIN:VCALENDAR
VERSION:2.0
PRODID:-//Rensselaer County Legislature - ECPv6.15.17.1//NONSGML v1.0//EN
CALSCALE:GREGORIAN
METHOD:PUBLISH
X-ORIGINAL-URL:https://www.rensselaercounty.org
X-WR-CALDESC:Events for Rensselaer County Legislature
REFRESH-INTERVAL;VALUE=DURATION:PT1H
X-Robots-Tag:noindex
X-PUBLISHED-TTL:PT1H
BEGIN:VTIMEZONE
TZID:UTC
BEGIN:STANDARD
TZOFFSETFROM:+0000
TZOFFSETTO:+0000
TZNAME:UTC
DTSTART:20210101T000000
END:STANDARD
END:VTIMEZONE
BEGIN:VEVENT
DTSTART;TZID=UTC:20220214T080000
DTEND;TZID=UTC:20220214T090000
DTSTAMP:20260424T185954
CREATED:20220214T211119Z
LAST-MODIFIED:20220214T231800Z
UID:2363-1644825600-1644829200@www.rensselaercounty.org
SUMMARY:February 2022 Honor A Deceased Veteran - Richard P. Jansson
DESCRIPTION:RICHARD PAUL JANSSON\n1936-2020 \n \nFAMILY HISTORY:\nRichard Paul Jansson was born on July 23\, 1936 in Yonkers\, New York to the late Sven and Violet Jansson. He was the brother of Wesley\, Edith\, David\, and the late Ernest\, Florence and William\, and half-brother to Mary. \nEDUCATION:\nRichard grew up in Averill Park\, New York and attended Averill Park High School from 1950-1953. \nHISTORY:\nRichard enlisted in the United States Navy on August 23\, 1954 in Albany\, New York. He was assigned to the U.S.S. Antietam CVS-36 and went on to serve in the United States Naval Reserves until August 22\, 1962. \nPERSONAL:\nWhen Richard was a young man\, he met the love of his life\, Joan Ogden\, and on May 19\, 1956 they got married. They were married for over 63 loving years until sadly Joan passed away in 2019. They will both be dearly missed by their daughters Brenda and Deborah; grandchildren Terrence\, Ricky\, Amber and Brandon; and great-grandchildren Brittney\, Ricky\, Jr.\, Julian\, Jennifer\, Bentley\, Jesse\, Riley and Erica. \nWORK EXPERIENCE:\nFor many years\, Richard worked as a firefighter for Electric Boat. \nCOMMUNITY ACTIVITIES/ORGANIZATIONS:\nRichard liked skeet shooting\, hunting\, fishing and bowling. After retirement\, he enjoyed spending time at the Colchester Senior Center playing cards and Pinnacle. He also drove as a school bus driver for handicapped children in retirement. Above all\, Richard loved spending time with his family and friends. \nSadly\, on January 22\, 2020 Richard passed away.
URL:https://www.rensselaercounty.org/event/february-2022-honor-a-deceased-veteran-2/
CATEGORIES:Honor a Veteran
END:VEVENT
END:VCALENDAR